BEGIN:VCALENDAR
VERSION:2.0
PRODID:-//CarolinaCrossmen - ECPv6.4.0.1//NONSGML v1.0//EN
CALSCALE:GREGORIAN
METHOD:PUBLISH
X-WR-CALNAME:CarolinaCrossmen
X-ORIGINAL-URL:http://www.carolinacrossmen.com
X-WR-CALDESC:Events for CarolinaCrossmen
REFRESH-INTERVAL;VALUE=DURATION:PT1H
X-Robots-Tag:noindex
X-PUBLISHED-TTL:PT1H
BEGIN:VTIMEZONE
TZID:America/New_York
BEGIN:DAYLIGHT
TZOFFSETFROM:-0500
TZOFFSETTO:-0400
TZNAME:EDT
DTSTART:20220313T070000
END:DAYLIGHT
BEGIN:STANDARD
TZOFFSETFROM:-0400
TZOFFSETTO:-0500
TZNAME:EST
DTSTART:20221106T060000
END:STANDARD
BEGIN:DAYLIGHT
TZOFFSETFROM:-0500
TZOFFSETTO:-0400
TZNAME:EDT
DTSTART:20230312T070000
END:DAYLIGHT
BEGIN:STANDARD
TZOFFSETFROM:-0400
TZOFFSETTO:-0500
TZNAME:EST
DTSTART:20231105T060000
END:STANDARD
END:VTIMEZONE
BEGIN:VEVENT
DTSTART;TZID=America/New_York:20231119T100000
DTEND;TZID=America/New_York:20231119T120000
DTSTAMP:20260419T145044
CREATED:20230730T134553Z
LAST-MODIFIED:20231010T125451Z
UID:10000235-1700388000-1700395200@www.carolinacrossmen.com
SUMMARY:Promise Land
DESCRIPTION:
URL:http://www.carolinacrossmen.com/event/promised-land/
LOCATION:Promised Land\, Tuckasegee\, NC\, United States
GEO:35.2703778;-83.1226416
END:VEVENT
BEGIN:VEVENT
DTSTART;TZID=America/New_York:20231015T100000
DTEND;TZID=America/New_York:20231015T120000
DTSTAMP:20260419T145044
CREATED:20231010T114540Z
LAST-MODIFIED:20231010T114540Z
UID:10000236-1697364000-1697371200@www.carolinacrossmen.com
SUMMARY:Ochre Hill Baptist - Old Fashion Sunday
DESCRIPTION:Old Fashion Sunday\n10am \nSecond to last event for the Carolina Crossmen
URL:http://www.carolinacrossmen.com/event/ochre-hill-baptist-old-fashion-sunday/
LOCATION:Ochre Hill Baptist\, Sylva\, NC\, United States
GEO:35.3737111;-83.2259803
END:VEVENT
BEGIN:VEVENT
DTSTART;TZID=America/New_York:20230924T100000
DTEND;TZID=America/New_York:20230924T120000
DTSTAMP:20260419T145044
CREATED:20230323T141812Z
LAST-MODIFIED:20230425T123022Z
UID:10000227-1695549600-1695556800@www.carolinacrossmen.com
SUMMARY:Double Branches Baptist
DESCRIPTION:
URL:http://www.carolinacrossmen.com/event/double-branches-baptist/
LOCATION:Double Branches\, Canon\, GA\, United States
END:VEVENT
BEGIN:VEVENT
DTSTART;TZID=America/New_York:20230917T100000
DTEND;TZID=America/New_York:20230917T120000
DTSTAMP:20260419T145044
CREATED:20230425T122956Z
LAST-MODIFIED:20230425T122956Z
UID:10000234-1694944800-1694952000@www.carolinacrossmen.com
SUMMARY:Beaverdam
DESCRIPTION:
URL:http://www.carolinacrossmen.com/event/beaverdam/
LOCATION:Beaverdam Baptist\, Clyde\, NC\, United States
GEO:35.5334379;-82.910691
END:VEVENT
BEGIN:VEVENT
DTSTART;TZID=America/New_York:20230827T180000
DTEND;TZID=America/New_York:20230827T190000
DTSTAMP:20260419T145044
CREATED:20230323T142105Z
LAST-MODIFIED:20230323T142105Z
UID:10000231-1693159200-1693162800@www.carolinacrossmen.com
SUMMARY:Tate's Creek
DESCRIPTION:
URL:http://www.carolinacrossmen.com/event/tates-creek-4/
LOCATION:Tate’s Creek\, Toccoa\, GA\, United States
GEO:34.5773206;-83.3323851
END:VEVENT
BEGIN:VEVENT
DTSTART;TZID=America/New_York:20230827T100000
DTEND;TZID=America/New_York:20230827T120000
DTSTAMP:20260419T145044
CREATED:20230323T142036Z
LAST-MODIFIED:20230323T142036Z
UID:10000230-1693130400-1693137600@www.carolinacrossmen.com
SUMMARY:Enota Baptist
DESCRIPTION:
URL:http://www.carolinacrossmen.com/event/enota-baptist-2/
LOCATION:Enota\, Hiawassee\, GA\, United States
END:VEVENT
BEGIN:VEVENT
DTSTART;TZID=America/New_York:20230813T180000
DTEND;TZID=America/New_York:20230813T190000
DTSTAMP:20260419T145044
CREATED:20230425T122923Z
LAST-MODIFIED:20230425T122923Z
UID:10000233-1691949600-1691953200@www.carolinacrossmen.com
SUMMARY:In Jesus Name
DESCRIPTION:
URL:http://www.carolinacrossmen.com/event/in-jesus-name-6/
LOCATION:In Jesus Name\, Edneyville\, NC\, United States
GEO:35.390272;-82.3400046
END:VEVENT
BEGIN:VEVENT
DTSTART;TZID=America/New_York:20230813T100000
DTEND;TZID=America/New_York:20230813T120000
DTSTAMP:20260419T145044
CREATED:20230323T141958Z
LAST-MODIFIED:20230323T141958Z
UID:10000229-1691920800-1691928000@www.carolinacrossmen.com
SUMMARY:Higgins Chapel
DESCRIPTION:
URL:http://www.carolinacrossmen.com/event/higgins-chapel-2/
LOCATION:Higgins Chapel\, Flag Pond\, TN\, United States
GEO:36.015385;-82.5570836
END:VEVENT
BEGIN:VEVENT
DTSTART;TZID=America/New_York:20230730T100000
DTEND;TZID=America/New_York:20230730T120000
DTSTAMP:20260419T145044
CREATED:20230323T141914Z
LAST-MODIFIED:20230323T141914Z
UID:10000228-1690711200-1690718400@www.carolinacrossmen.com
SUMMARY:Oakdale Baptist
DESCRIPTION:
URL:http://www.carolinacrossmen.com/event/oakdale-baptist-2/
LOCATION:Oakdale Baptist\, Canton\, GA\, United States
GEO:34.2367621;-84.4907621
END:VEVENT
BEGIN:VEVENT
DTSTART;TZID=America/New_York:20230521T100000
DTEND;TZID=America/New_York:20230521T120000
DTSTAMP:20260419T145044
CREATED:20230301T002344Z
LAST-MODIFIED:20230323T143305Z
UID:10000226-1684663200-1684670400@www.carolinacrossmen.com
SUMMARY:Mt. Vernon
DESCRIPTION:
URL:http://www.carolinacrossmen.com/event/mt-vernon-3/
LOCATION:Mt Vernon Baptist\, Bryson City\, NC\, United States
GEO:35.4309291;-83.4473809
END:VEVENT
BEGIN:VEVENT
DTSTART;TZID=America/New_York:20230326T100000
DTEND;TZID=America/New_York:20230326T120000
DTSTAMP:20260419T145044
CREATED:20230301T002118Z
LAST-MODIFIED:20230301T002118Z
UID:10000225-1679824800-1679832000@www.carolinacrossmen.com
SUMMARY:Hunters Creek
DESCRIPTION:
URL:http://www.carolinacrossmen.com/event/hunters-creek-2/
LOCATION:hunters creek\, Carnesville\, GA\, United States
END:VEVENT
BEGIN:VEVENT
DTSTART;TZID=America/New_York:20230319T100000
DTEND;TZID=America/New_York:20230319T120000
DTSTAMP:20260419T145044
CREATED:20230301T002038Z
LAST-MODIFIED:20230301T002038Z
UID:10000224-1679220000-1679227200@www.carolinacrossmen.com
SUMMARY:Holders Grove
DESCRIPTION:
URL:http://www.carolinacrossmen.com/event/holders-grove-5/
LOCATION:Holder’s Grove\, Cosbey\, TN\, United States
GEO:35.8154772;-83.2477597
END:VEVENT
BEGIN:VEVENT
DTSTART;TZID=America/New_York:20221203T180000
DTEND;TZID=America/New_York:20221203T190000
DTSTAMP:20260419T145044
CREATED:20220608T001615Z
LAST-MODIFIED:20220608T001615Z
UID:10000223-1670090400-1670094000@www.carolinacrossmen.com
SUMMARY:Piano Recital - Clara Sumner
DESCRIPTION:
URL:http://www.carolinacrossmen.com/event/piano-recital-clara-sumner/
LOCATION:Lovedale\, Sylva\, NC\, United States
END:VEVENT
BEGIN:VEVENT
DTSTART;TZID=America/New_York:20221120T100000
DTEND;TZID=America/New_York:20221120T120000
DTSTAMP:20260419T145044
CREATED:20220427T000011Z
LAST-MODIFIED:20220427T000011Z
UID:10000220-1668938400-1668945600@www.carolinacrossmen.com
SUMMARY:Promise Land
DESCRIPTION:
URL:http://www.carolinacrossmen.com/event/promise-land-2/
LOCATION:Promised Land\, Tuckasegee\, NC\, United States
GEO:35.2703778;-83.1226416
END:VEVENT
BEGIN:VEVENT
DTSTART;TZID=America/New_York:20221113T100000
DTEND;TZID=America/New_York:20221113T120000
DTSTAMP:20260419T145044
CREATED:20220426T235938Z
LAST-MODIFIED:20220426T235938Z
UID:10000219-1668333600-1668340800@www.carolinacrossmen.com
SUMMARY:Gloster Baptist
DESCRIPTION:
URL:http://www.carolinacrossmen.com/event/gloster-baptist-4/
LOCATION:Gloster Baptist\, Lawrenceville\, GA
GEO:33.9562149;-83.9879625
END:VEVENT
BEGIN:VEVENT
DTSTART;TZID=America/New_York:20221106T100000
DTEND;TZID=America/New_York:20221106T120000
DTSTAMP:20260419T145044
CREATED:20220426T235858Z
LAST-MODIFIED:20220426T235858Z
UID:10000218-1667728800-1667736000@www.carolinacrossmen.com
SUMMARY:Bethlehem Baptist
DESCRIPTION:
URL:http://www.carolinacrossmen.com/event/bethlehem-baptist-3/
LOCATION:Bethlehem Baptist\, Blairsville\, GA\, United States
END:VEVENT
BEGIN:VEVENT
DTSTART;TZID=America/New_York:20221030T103000
DTEND;TZID=America/New_York:20221030T170000
DTSTAMP:20260419T145044
CREATED:20220426T235801Z
LAST-MODIFIED:20220426T235801Z
UID:10000217-1667125800-1667149200@www.carolinacrossmen.com
SUMMARY:Corinth Baptist
DESCRIPTION:
URL:http://www.carolinacrossmen.com/event/corinth-baptist/
LOCATION:Corinth Baptist\, Suches\, GA\, United States
END:VEVENT
BEGIN:VEVENT
DTSTART;TZID=America/New_York:20221022T180000
DTEND;TZID=America/New_York:20221022T190000
DTSTAMP:20260419T145044
CREATED:20220426T235514Z
LAST-MODIFIED:20221008T113125Z
UID:10000216-1666461600-1666465200@www.carolinacrossmen.com
SUMMARY:Mt Pleasant Baptist - Postponed!
DESCRIPTION:
URL:http://www.carolinacrossmen.com/event/mt-pleasant-baptist/
LOCATION:Mt Pleasant\, Sylva\, NC\, United States
END:VEVENT
BEGIN:VEVENT
DTSTART;TZID=America/New_York:20221002T100000
DTEND;TZID=America/New_York:20221002T120000
DTSTAMP:20260419T145044
CREATED:20220426T235421Z
LAST-MODIFIED:20220426T235421Z
UID:10000215-1664704800-1664712000@www.carolinacrossmen.com
SUMMARY:Beaverdam Baptist
DESCRIPTION:
URL:http://www.carolinacrossmen.com/event/beaverdam-baptist-3/
LOCATION:Beaverdam Baptist\, Clyde\, NC\, United States
GEO:35.5334379;-82.910691
END:VEVENT
BEGIN:VEVENT
DTSTART;TZID=America/New_York:20220925T100000
DTEND;TZID=America/New_York:20220925T120000
DTSTAMP:20260419T145044
CREATED:20220426T235229Z
LAST-MODIFIED:20220426T235229Z
UID:10000214-1664100000-1664107200@www.carolinacrossmen.com
SUMMARY:Coweeta Baptist
DESCRIPTION:
URL:http://www.carolinacrossmen.com/event/coweeta-baptist/
LOCATION:Coweeta Baptist\, Franklin\, NC\, United States
END:VEVENT
BEGIN:VEVENT
DTSTART;TZID=America/New_York:20220918T100000
DTEND;TZID=America/New_York:20220918T120000
DTSTAMP:20260419T145044
CREATED:20220426T235132Z
LAST-MODIFIED:20220426T235132Z
UID:10000212-1663495200-1663502400@www.carolinacrossmen.com
SUMMARY:High Point Church of God
DESCRIPTION:
URL:http://www.carolinacrossmen.com/event/high-point-church-of-god-2/
LOCATION:High Point\, Frolona\, GA\, United States
GEO:33.324561;-85.2360568
END:VEVENT
BEGIN:VEVENT
DTSTART;TZID=America/New_York:20220911T100000
DTEND;TZID=America/New_York:20220911T120000
DTSTAMP:20260419T145044
CREATED:20220426T235023Z
LAST-MODIFIED:20220426T235023Z
UID:10000213-1662890400-1662897600@www.carolinacrossmen.com
SUMMARY:Keowee Baptist
DESCRIPTION:
URL:http://www.carolinacrossmen.com/event/keowee-baptist-2/
LOCATION:Keowee Baptist\, Six Mile\, SC\, United States
GEO:34.8073296;-82.8206976
END:VEVENT
BEGIN:VEVENT
DTSTART;TZID=America/New_York:20220903T160000
DTEND;TZID=America/New_York:20220903T170000
DTSTAMP:20260419T145044
CREATED:20220426T234922Z
LAST-MODIFIED:20220426T234922Z
UID:10000207-1662220800-1662224400@www.carolinacrossmen.com
SUMMARY:Maranatha Baptist
DESCRIPTION:
URL:http://www.carolinacrossmen.com/event/maranatha-baptist-2/
LOCATION:Maranatha Baptist – Pickens\, Pickens\, SC\, United States
END:VEVENT
BEGIN:VEVENT
DTSTART;TZID=America/New_York:20220828T190000
DTEND;TZID=America/New_York:20220828T200000
DTSTAMP:20260419T145044
CREATED:20220426T234741Z
LAST-MODIFIED:20220426T234741Z
UID:10000209-1661713200-1661716800@www.carolinacrossmen.com
SUMMARY:Tate's Creek Baptist
DESCRIPTION:
URL:http://www.carolinacrossmen.com/event/tates-creek-baptist/
LOCATION:Tate’s Creek\, Toccoa\, GA\, United States
GEO:34.5773206;-83.3323851
END:VEVENT
BEGIN:VEVENT
DTSTART;TZID=America/New_York:20220828T100000
DTEND;TZID=America/New_York:20220828T120000
DTSTAMP:20260419T145044
CREATED:20220426T234654Z
LAST-MODIFIED:20220426T234654Z
UID:10000211-1661680800-1661688000@www.carolinacrossmen.com
SUMMARY:Betty's Creek
DESCRIPTION:
URL:http://www.carolinacrossmen.com/event/bettys-creek/
LOCATION:Betty’s Creek\, Dillard\, GA\, United States
END:VEVENT
BEGIN:VEVENT
DTSTART;TZID=America/New_York:20220821T170000
DTEND;TZID=America/New_York:20220821T180000
DTSTAMP:20260419T145044
CREATED:20220426T234610Z
LAST-MODIFIED:20220821T120018Z
UID:10000210-1661101200-1661104800@www.carolinacrossmen.com
SUMMARY:Shiloh Baptist
DESCRIPTION:
URL:http://www.carolinacrossmen.com/event/shiloh-baptist/
LOCATION:Shiloh Baptist\, Toccoa\, GA\, United States
END:VEVENT
BEGIN:VEVENT
DTSTART;TZID=America/New_York:20220821T103000
DTEND;TZID=America/New_York:20220821T120000
DTSTAMP:20260419T145044
CREATED:20220426T234524Z
LAST-MODIFIED:20220426T234524Z
UID:10000208-1661077800-1661083200@www.carolinacrossmen.com
SUMMARY:Chopped Oak Baptist
DESCRIPTION:
URL:http://www.carolinacrossmen.com/event/chopped-oak-baptist/
LOCATION:Chopped Oak Baptist\, Hollywood\, GA\, United States
END:VEVENT
BEGIN:VEVENT
DTSTART;TZID=America/New_York:20220814T100000
DTEND;TZID=America/New_York:20220814T120000
DTSTAMP:20260419T145044
CREATED:20220608T001349Z
LAST-MODIFIED:20220608T001349Z
UID:10000222-1660471200-1660478400@www.carolinacrossmen.com
SUMMARY:Hill Street Baptist
DESCRIPTION:
URL:http://www.carolinacrossmen.com/event/hill-street-baptist/
LOCATION:Hill Street\, Toccoa\, GA\, United States
END:VEVENT
BEGIN:VEVENT
DTSTART;TZID=America/New_York:20220807T180000
DTEND;TZID=America/New_York:20220807T190000
DTSTAMP:20260419T145044
CREATED:20220426T234406Z
LAST-MODIFIED:20220426T234406Z
UID:10000206-1659895200-1659898800@www.carolinacrossmen.com
SUMMARY:In Jesus Name
DESCRIPTION:
URL:http://www.carolinacrossmen.com/event/in-jesus-name-5/
LOCATION:In Jesus Name\, Edneyville\, NC\, United States
GEO:35.390272;-82.3400046
END:VEVENT
BEGIN:VEVENT
DTSTART;TZID=America/New_York:20220807T100000
DTEND;TZID=America/New_York:20220807T120000
DTSTAMP:20260419T145044
CREATED:20220614T230909Z
LAST-MODIFIED:20220614T230909Z
UID:10000122-1659866400-1659873600@www.carolinacrossmen.com
SUMMARY:Rock Springs
DESCRIPTION:
URL:http://www.carolinacrossmen.com/event/rock-springs-2/
LOCATION:Rock Springs Baptist\, Cherokee\, NC\, United States
GEO:35.4770574;-83.3205859
END:VEVENT
END:VCALENDAR