BEGIN:VCALENDAR
VERSION:2.0
PRODID:-//CarolinaCrossmen - ECPv6.4.0.1//NONSGML v1.0//EN
CALSCALE:GREGORIAN
METHOD:PUBLISH
X-WR-CALNAME:CarolinaCrossmen
X-ORIGINAL-URL:http://www.carolinacrossmen.com
X-WR-CALDESC:Events for CarolinaCrossmen
REFRESH-INTERVAL;VALUE=DURATION:PT1H
X-Robots-Tag:noindex
X-PUBLISHED-TTL:PT1H
BEGIN:VTIMEZONE
TZID:America/New_York
BEGIN:DAYLIGHT
TZOFFSETFROM:-0500
TZOFFSETTO:-0400
TZNAME:EDT
DTSTART:20190310T070000
END:DAYLIGHT
BEGIN:STANDARD
TZOFFSETFROM:-0400
TZOFFSETTO:-0500
TZNAME:EST
DTSTART:20191103T060000
END:STANDARD
BEGIN:DAYLIGHT
TZOFFSETFROM:-0500
TZOFFSETTO:-0400
TZNAME:EDT
DTSTART:20200308T070000
END:DAYLIGHT
BEGIN:STANDARD
TZOFFSETFROM:-0400
TZOFFSETTO:-0500
TZNAME:EST
DTSTART:20201101T060000
END:STANDARD
BEGIN:DAYLIGHT
TZOFFSETFROM:-0500
TZOFFSETTO:-0400
TZNAME:EDT
DTSTART:20210314T070000
END:DAYLIGHT
BEGIN:STANDARD
TZOFFSETFROM:-0400
TZOFFSETTO:-0500
TZNAME:EST
DTSTART:20211107T060000
END:STANDARD
END:VTIMEZONE
BEGIN:VEVENT
DTSTART;TZID=America/New_York:20211107T100000
DTEND;TZID=America/New_York:20211107T120000
DTSTAMP:20260419T162609
CREATED:20210630T234658Z
LAST-MODIFIED:20210630T234658Z
UID:10000192-1636279200-1636286400@www.carolinacrossmen.com
SUMMARY:First Assembly of God
DESCRIPTION:
URL:http://www.carolinacrossmen.com/event/first-assembly-of-god-3/
LOCATION:First Assembly of God\, Clayton\, GA\, United States
GEO:34.8781479;-83.4009933
END:VEVENT
BEGIN:VEVENT
DTSTART;TZID=America/New_York:20211031T100000
DTEND;TZID=America/New_York:20211031T120000
DTSTAMP:20260419T162609
CREATED:20210818T004820Z
LAST-MODIFIED:20210818T004820Z
UID:10000197-1635674400-1635681600@www.carolinacrossmen.com
SUMMARY:Rock Creek Baptist
DESCRIPTION:
URL:http://www.carolinacrossmen.com/event/rock-creek-baptist/
LOCATION:Rock Creek Baptist\, Toccoa\, GA\, United States
END:VEVENT
BEGIN:VEVENT
DTSTART;TZID=America/New_York:20211023T180000
DTEND;TZID=America/New_York:20211023T190000
DTSTAMP:20260419T162609
CREATED:20210630T234554Z
LAST-MODIFIED:20210630T234554Z
UID:10000191-1635012000-1635015600@www.carolinacrossmen.com
SUMMARY:Mt Pleasant
DESCRIPTION:
URL:http://www.carolinacrossmen.com/event/mt-pleasant/
LOCATION:Mt Pleasant\, Sylva\, NC\, United States
END:VEVENT
BEGIN:VEVENT
DTSTART;TZID=America/New_York:20211003T170000
DTEND;TZID=America/New_York:20211003T180000
DTSTAMP:20260419T162609
CREATED:20210910T102043Z
LAST-MODIFIED:20210910T102043Z
UID:10000198-1633280400-1633284000@www.carolinacrossmen.com
SUMMARY:Gloster Baptist
DESCRIPTION:
URL:http://www.carolinacrossmen.com/event/gloster-baptist-3/
LOCATION:Gloster Baptist\, Lawrenceville\, GA
GEO:33.9562149;-83.9879625
END:VEVENT
BEGIN:VEVENT
DTSTART;TZID=America/New_York:20211003T100000
DTEND;TZID=America/New_York:20211003T120000
DTSTAMP:20260419T162609
CREATED:20210630T234506Z
LAST-MODIFIED:20210630T234506Z
UID:10000190-1633255200-1633262400@www.carolinacrossmen.com
SUMMARY:Mtn View Baptist
DESCRIPTION:
URL:http://www.carolinacrossmen.com/event/mtn-view-baptist/
LOCATION:Mtn View Baptist Cleveland\, Cleveland\, GA\, United States
END:VEVENT
BEGIN:VEVENT
DTSTART;TZID=America/New_York:20210926T100000
DTEND;TZID=America/New_York:20210926T120000
DTSTAMP:20260419T162609
CREATED:20210428T000234Z
LAST-MODIFIED:20210428T000234Z
UID:10000187-1632650400-1632657600@www.carolinacrossmen.com
SUMMARY:Holders Grove
DESCRIPTION:
URL:http://www.carolinacrossmen.com/event/holders-grove-4/
LOCATION:Holder’s Grove\, Cosbey\, TN\, United States
GEO:35.8154772;-83.2477597
END:VEVENT
BEGIN:VEVENT
DTSTART;TZID=America/New_York:20210919T100000
DTEND;TZID=America/New_York:20210919T120000
DTSTAMP:20260419T162609
CREATED:20210428T000158Z
LAST-MODIFIED:20210428T000158Z
UID:10000186-1632045600-1632052800@www.carolinacrossmen.com
SUMMARY:Beaverdam Baptist
DESCRIPTION:
URL:http://www.carolinacrossmen.com/event/beaverdam-baptist-2/
LOCATION:Beaverdam Baptist\, Clyde\, NC\, United States
GEO:35.5334379;-82.910691
END:VEVENT
BEGIN:VEVENT
DTSTART;TZID=America/New_York:20210905T100000
DTEND;TZID=America/New_York:20210905T120000
DTSTAMP:20260419T162609
CREATED:20210630T234410Z
LAST-MODIFIED:20210630T234410Z
UID:10000189-1630836000-1630843200@www.carolinacrossmen.com
SUMMARY:Enota Baptist
DESCRIPTION:
URL:http://www.carolinacrossmen.com/event/enota-baptist/
LOCATION:Enota\, Hiawassee\, GA\, United States
END:VEVENT
BEGIN:VEVENT
DTSTART;TZID=America/New_York:20210822T190000
DTEND;TZID=America/New_York:20210822T200000
DTSTAMP:20260419T162609
CREATED:20210809T124013Z
LAST-MODIFIED:20210816T212820Z
UID:10000196-1629658800-1629662400@www.carolinacrossmen.com
SUMMARY:Tate's Creek
DESCRIPTION:
URL:http://www.carolinacrossmen.com/event/tates-creek-3/
LOCATION:Tate’s Creek\, Toccoa\, GA\, United States
END:VEVENT
BEGIN:VEVENT
DTSTART;TZID=America/New_York:20210822T103000
DTEND;TZID=America/New_York:20210822T120000
DTSTAMP:20260419T162609
CREATED:20210809T123855Z
LAST-MODIFIED:20210816T212749Z
UID:10000195-1629628200-1629633600@www.carolinacrossmen.com
SUMMARY:Canaan Baptist
DESCRIPTION:
URL:http://www.carolinacrossmen.com/event/canaan-baptist/
LOCATION:Canaan Baptist\, Danielsville\, GA\, United States
END:VEVENT
BEGIN:VEVENT
DTSTART;TZID=America/New_York:20210815T100000
DTEND;TZID=America/New_York:20210815T140000
DTSTAMP:20260419T162609
CREATED:20210428T000059Z
LAST-MODIFIED:20210428T000059Z
UID:10000185-1629021600-1629036000@www.carolinacrossmen.com
SUMMARY:Maranatha Baptist
DESCRIPTION:
URL:http://www.carolinacrossmen.com/event/maranatha-baptist/
LOCATION:Maranatha Baptist\, Pickens\, SC\, United States
END:VEVENT
BEGIN:VEVENT
DTSTART;TZID=America/New_York:20210801T180000
DTEND;TZID=America/New_York:20210801T190000
DTSTAMP:20260419T162609
CREATED:20210725T101016Z
LAST-MODIFIED:20210725T101016Z
UID:10000194-1627840800-1627844400@www.carolinacrossmen.com
SUMMARY:In Jesus Name
DESCRIPTION:
URL:http://www.carolinacrossmen.com/event/in-jesus-name-4/
LOCATION:In Jesus Name\, Edneyville\, NC\, United States
GEO:35.390272;-82.3400046
END:VEVENT
BEGIN:VEVENT
DTSTART;TZID=America/New_York:20210801T100000
DTEND;TZID=America/New_York:20210801T120000
DTSTAMP:20260419T162609
CREATED:20210427T235959Z
LAST-MODIFIED:20210427T235959Z
UID:10000184-1627812000-1627819200@www.carolinacrossmen.com
SUMMARY:Brookwood Baptist
DESCRIPTION:
URL:http://www.carolinacrossmen.com/event/brookwood-baptist-2/
LOCATION:Brookwood Baptist\, Morganton\, NC\, United States
GEO:35.7454071;-81.6848188
END:VEVENT
BEGIN:VEVENT
DTSTART;TZID=America/New_York:20210725T100000
DTEND;TZID=America/New_York:20210725T120000
DTSTAMP:20260419T162609
CREATED:20210427T235909Z
LAST-MODIFIED:20210427T235909Z
UID:10000183-1627207200-1627214400@www.carolinacrossmen.com
SUMMARY:Higgins Chapel
DESCRIPTION:
URL:http://www.carolinacrossmen.com/event/higgins-chapel/
LOCATION:Higgins Chapel\, Flag Pond\, TN\, United States
GEO:36.015385;-82.5570836
END:VEVENT
BEGIN:VEVENT
DTSTART;TZID=America/New_York:20210718T100000
DTEND;TZID=America/New_York:20210718T120000
DTSTAMP:20260419T162609
CREATED:20210330T013045Z
LAST-MODIFIED:20210330T013045Z
UID:10000180-1626602400-1626609600@www.carolinacrossmen.com
SUMMARY:Truth Fellowship
DESCRIPTION:
URL:http://www.carolinacrossmen.com/event/truth-fellowship-5/
LOCATION:Truth Fellowship\, Carnesville\, GA\, United States
GEO:34.3698266;-83.235155
END:VEVENT
BEGIN:VEVENT
DTSTART;TZID=America/New_York:20210627T180000
DTEND;TZID=America/New_York:20210627T190000
DTSTAMP:20260419T162609
CREATED:20210330T013015Z
LAST-MODIFIED:20210330T013015Z
UID:10000179-1624816800-1624820400@www.carolinacrossmen.com
SUMMARY:Gap Hill Baptist
DESCRIPTION:
URL:http://www.carolinacrossmen.com/event/gap-hill-baptist/
LOCATION:Gap Hill Baptist\, Six Mile\, SC\, United States
END:VEVENT
BEGIN:VEVENT
DTSTART;TZID=America/New_York:20210627T100000
DTEND;TZID=America/New_York:20210627T120000
DTSTAMP:20260419T162609
CREATED:20210330T012928Z
LAST-MODIFIED:20210330T012928Z
UID:10000178-1624788000-1624795200@www.carolinacrossmen.com
SUMMARY:Mountain View Baptist
DESCRIPTION:
URL:http://www.carolinacrossmen.com/event/mountain-view-baptist-3/
LOCATION:Mountain View Baptist\, Baldwin\, GA\, United States
GEO:34.4917665;-83.5373946
END:VEVENT
BEGIN:VEVENT
DTSTART;TZID=America/New_York:20210613T180000
DTEND;TZID=America/New_York:20210613T193000
DTSTAMP:20260419T162609
CREATED:20210523T151208Z
LAST-MODIFIED:20210523T151208Z
UID:10000188-1623607200-1623612600@www.carolinacrossmen.com
SUMMARY:Piney Grove Baptist
DESCRIPTION:
URL:http://www.carolinacrossmen.com/event/piney-grove-baptist/
LOCATION:Piney Grove Baptist\, Del Rio\, TN\, United States
END:VEVENT
BEGIN:VEVENT
DTSTART;TZID=America/New_York:20210613T100000
DTEND;TZID=America/New_York:20210613T120000
DTSTAMP:20260419T162609
CREATED:20210427T235830Z
LAST-MODIFIED:20210427T235837Z
UID:10000182-1623578400-1623585600@www.carolinacrossmen.com
SUMMARY:Mountain View Baptist
DESCRIPTION:
URL:http://www.carolinacrossmen.com/event/mountain-view-baptist-4/
LOCATION:Mountain View Baptist  Newport Tn\, Newport\, TN
END:VEVENT
BEGIN:VEVENT
DTSTART;TZID=America/New_York:20210516T100000
DTEND;TZID=America/New_York:20210516T120000
DTSTAMP:20260419T162609
CREATED:20210427T235225Z
LAST-MODIFIED:20210427T235225Z
UID:10000181-1621159200-1621166400@www.carolinacrossmen.com
SUMMARY:Mt Vernon
DESCRIPTION:
URL:http://www.carolinacrossmen.com/event/mt-vernon/
LOCATION:Mt Vernon Baptist\, Bryson City\, NC\, United States
GEO:35.4309291;-83.4473809
END:VEVENT
BEGIN:VEVENT
DTSTART;TZID=America/New_York:20210502T100000
DTEND;TZID=America/New_York:20210502T120000
DTSTAMP:20260419T162609
CREATED:20210330T012822Z
LAST-MODIFIED:20210330T012822Z
UID:10000177-1619949600-1619956800@www.carolinacrossmen.com
SUMMARY:Hunters Creek
DESCRIPTION:
URL:http://www.carolinacrossmen.com/event/hunters-creek/
LOCATION:hunters creek\, Carnesville\, GA\, United States
END:VEVENT
BEGIN:VEVENT
DTSTART;TZID=America/New_York:20210425T100000
DTEND;TZID=America/New_York:20210425T120000
DTSTAMP:20260419T162609
CREATED:20210330T012639Z
LAST-MODIFIED:20210330T012639Z
UID:10000176-1619344800-1619352000@www.carolinacrossmen.com
SUMMARY:Indian Creek
DESCRIPTION:
URL:http://www.carolinacrossmen.com/event/indian-creek/
LOCATION:Indian Creek\, Carnesville\, GA\, United States
END:VEVENT
BEGIN:VEVENT
DTSTART;TZID=America/New_York:20210418T100000
DTEND;TZID=America/New_York:20210418T120000
DTSTAMP:20260419T162609
CREATED:20210305T140138Z
LAST-MODIFIED:20210411T113017Z
UID:10000175-1618740000-1618747200@www.carolinacrossmen.com
SUMMARY:Holly Springs- postponed
DESCRIPTION:
URL:http://www.carolinacrossmen.com/event/holly-springs/
LOCATION:Holly Springs\, Bowman\, GA\, United States
END:VEVENT
BEGIN:VEVENT
DTSTART;TZID=America/New_York:20210328T100000
DTEND;TZID=America/New_York:20210328T120000
DTSTAMP:20260419T162609
CREATED:20210305T140028Z
LAST-MODIFIED:20210305T140028Z
UID:10000174-1616925600-1616932800@www.carolinacrossmen.com
SUMMARY:Newmans Chapel
DESCRIPTION:
URL:http://www.carolinacrossmen.com/event/newmans-chapel/
LOCATION:Newmans Chapel\, Franklin\, NC\, United States
END:VEVENT
BEGIN:VEVENT
DTSTART;TZID=America/New_York:20210321T100000
DTEND;TZID=America/New_York:20210321T120000
DTSTAMP:20260419T162609
CREATED:20210305T135910Z
LAST-MODIFIED:20210321T112622Z
UID:10000173-1616320800-1616328000@www.carolinacrossmen.com
SUMMARY:Tugalo Baptist Church- postponed
DESCRIPTION:Tugalo Baptist Church
URL:http://www.carolinacrossmen.com/event/tugalo-baptist-church/
LOCATION:Tugalo Baptist\, Toccoa\, GA\, United States
GEO:34.5773206;-83.3323851
END:VEVENT
BEGIN:VEVENT
DTSTART;TZID=America/New_York:20210307T183000
DTEND;TZID=America/New_York:20210307T193000
DTSTAMP:20260419T162609
CREATED:20210305T135612Z
LAST-MODIFIED:20210305T153013Z
UID:10000172-1615141800-1615145400@www.carolinacrossmen.com
SUMMARY:In Jesus Name - Cancelled due to covid.
DESCRIPTION:In Jesus Name\, Edneyville\, SC 6:30pm
URL:http://www.carolinacrossmen.com/event/in-jesus-name-3/
LOCATION:In Jesus Name\, Edneyville\, NC\, United States
GEO:35.390272;-82.3400046
END:VEVENT
BEGIN:VEVENT
DTSTART;TZID=America/New_York:20191208T100000
DTEND;TZID=America/New_York:20191208T120000
DTSTAMP:20260419T162609
CREATED:20190319T235545Z
LAST-MODIFIED:20190319T235545Z
UID:10000164-1575799200-1575806400@www.carolinacrossmen.com
SUMMARY:Truth Fellowship
DESCRIPTION:
URL:http://www.carolinacrossmen.com/event/truth-fellowship-4/
LOCATION:Truth Fellowship\, Carnesville\, GA\, United States
GEO:34.3698266;-83.235155
END:VEVENT
BEGIN:VEVENT
DTSTART;TZID=America/New_York:20191124T100000
DTEND;TZID=America/New_York:20191124T120000
DTSTAMP:20260419T162609
CREATED:20190319T235436Z
LAST-MODIFIED:20190319T235436Z
UID:10000163-1574589600-1574596800@www.carolinacrossmen.com
SUMMARY:Promised Land Baptist
DESCRIPTION:
URL:http://www.carolinacrossmen.com/event/promised-land-baptist-3/
LOCATION:Promised Land\, Tuckasegee\, NC\, United States
GEO:35.2703778;-83.1226416
END:VEVENT
BEGIN:VEVENT
DTSTART;TZID=America/New_York:20191020T170000
DTEND;TZID=America/New_York:20191020T180000
DTSTAMP:20260419T162609
CREATED:20190319T235308Z
LAST-MODIFIED:20190319T235308Z
UID:10000080-1571590800-1571594400@www.carolinacrossmen.com
SUMMARY:Bethlehem Baptist
DESCRIPTION:
URL:http://www.carolinacrossmen.com/event/bethlehem-baptist/
LOCATION:Bethlehem Baptist\, Blairsville\, GA\, United States
END:VEVENT
BEGIN:VEVENT
DTSTART;TZID=America/New_York:20191006T100000
DTEND;TZID=America/New_York:20191006T120000
DTSTAMP:20260419T162609
CREATED:20190319T235136Z
LAST-MODIFIED:20190319T235136Z
UID:10000078-1570356000-1570363200@www.carolinacrossmen.com
SUMMARY:Warrenville Church of God
DESCRIPTION:
URL:http://www.carolinacrossmen.com/event/warrenville-church-of-god-3/
LOCATION:Warrenville Church of God\, Warrenville\, SC\, United States
GEO:33.5509706;-81.8039998
END:VEVENT
END:VCALENDAR