BEGIN:VCALENDAR
VERSION:2.0
PRODID:-//CarolinaCrossmen - ECPv6.4.0.1//NONSGML v1.0//EN
CALSCALE:GREGORIAN
METHOD:PUBLISH
X-WR-CALNAME:CarolinaCrossmen
X-ORIGINAL-URL:http://www.carolinacrossmen.com
X-WR-CALDESC:Events for CarolinaCrossmen
REFRESH-INTERVAL;VALUE=DURATION:PT1H
X-Robots-Tag:noindex
X-PUBLISHED-TTL:PT1H
BEGIN:VTIMEZONE
TZID:America/New_York
BEGIN:DAYLIGHT
TZOFFSETFROM:-0500
TZOFFSETTO:-0400
TZNAME:EDT
DTSTART:20180311T070000
END:DAYLIGHT
BEGIN:STANDARD
TZOFFSETFROM:-0400
TZOFFSETTO:-0500
TZNAME:EST
DTSTART:20181104T060000
END:STANDARD
BEGIN:DAYLIGHT
TZOFFSETFROM:-0500
TZOFFSETTO:-0400
TZNAME:EDT
DTSTART:20190310T070000
END:DAYLIGHT
BEGIN:STANDARD
TZOFFSETFROM:-0400
TZOFFSETTO:-0500
TZNAME:EST
DTSTART:20191103T060000
END:STANDARD
END:VTIMEZONE
BEGIN:VEVENT
DTSTART;TZID=America/New_York:20190330T160000
DTEND;TZID=America/New_York:20190330T200000
DTSTAMP:20260420T023131
CREATED:20190319T233050Z
LAST-MODIFIED:20190319T233050Z
UID:10000158-1553961600-1553976000@www.carolinacrossmen.com
SUMMARY:Poor Man's Supper Fundraiser
DESCRIPTION:Ochre Hill Mission Trip Fundraiser \nSinging \nHollerin’ Home \nTurnin’ Home \nCarolina Crossmen
URL:http://www.carolinacrossmen.com/event/poor-mans-supper-fundraiser-2/
LOCATION:Balsam VFD\, Sylva\, NC\, United States
GEO:35.3737111;-83.2259803
END:VEVENT
BEGIN:VEVENT
DTSTART;TZID=America/New_York:20190303T183000
DTEND;TZID=America/New_York:20190303T200000
DTSTAMP:20260420T023131
CREATED:20190102T011207Z
LAST-MODIFIED:20190102T011207Z
UID:10000155-1551637800-1551643200@www.carolinacrossmen.com
SUMMARY:In Jesus Name
DESCRIPTION:In Jesus Name
URL:http://www.carolinacrossmen.com/event/in-jesus-name-2/
LOCATION:In Jesus Name\, Edneyville\, NC\, United States
GEO:35.390272;-82.3400046
END:VEVENT
BEGIN:VEVENT
DTSTART;TZID=America/New_York:20190210T180000
DTEND;TZID=America/New_York:20190210T193000
DTSTAMP:20260420T023131
CREATED:20190129T232354Z
LAST-MODIFIED:20190129T232354Z
UID:10000156-1549821600-1549827000@www.carolinacrossmen.com
SUMMARY:Bible Baptist
DESCRIPTION:Bible Baptist –  Royston\, GA 6pm
URL:http://www.carolinacrossmen.com/event/bible-baptist/
LOCATION:Bible Baptist\, Royston\, GA\, United States
END:VEVENT
BEGIN:VEVENT
DTSTART;TZID=America/New_York:20190210T100000
DTEND;TZID=America/New_York:20190210T120000
DTSTAMP:20260420T023131
CREATED:20190102T011114Z
LAST-MODIFIED:20190102T011114Z
UID:10000154-1549792800-1549800000@www.carolinacrossmen.com
SUMMARY:Oak Bowers
DESCRIPTION:Oak Bowers
URL:http://www.carolinacrossmen.com/event/oak-bowers/
LOCATION:Oak Bowers\, Hartwell\, GA\, United States
GEO:34.3528825;-82.932087
END:VEVENT
BEGIN:VEVENT
DTSTART;TZID=America/New_York:20190120T180000
DTEND;TZID=America/New_York:20190120T190000
DTSTAMP:20260420T023131
CREATED:20190102T011000Z
LAST-MODIFIED:20190102T011229Z
UID:10000153-1548007200-1548010800@www.carolinacrossmen.com
SUMMARY:Maranatha Baptist
DESCRIPTION:Maranatha Baptist Pickens\, SC
URL:http://www.carolinacrossmen.com/event/maranatha-baptist-pickens-sc/
LOCATION:Maranatha Baptist\, Pickens\, SC\, United States
END:VEVENT
BEGIN:VEVENT
DTSTART;TZID=America/New_York:20190120T100000
DTEND;TZID=America/New_York:20190120T120000
DTSTAMP:20260420T023131
CREATED:20190102T010809Z
LAST-MODIFIED:20190102T011255Z
UID:10000152-1547978400-1547985600@www.carolinacrossmen.com
SUMMARY:Cove Creek (Jonathan's Creek / Clyde\, NC)
DESCRIPTION:Cove Creek (Jonathan’s Creek / Clyde\, NC)
URL:http://www.carolinacrossmen.com/event/cove-creek-jonathans-creek-clyde-nc/
LOCATION:Cove Creek Baptist\, Clyde\, NC\, United States
GEO:35.5334379;-82.910691
END:VEVENT
BEGIN:VEVENT
DTSTART;TZID=America/New_York:20190106T180000
DTEND;TZID=America/New_York:20190106T190000
DTSTAMP:20260420T023131
CREATED:20190102T010656Z
LAST-MODIFIED:20190102T011237Z
UID:10000151-1546797600-1546801200@www.carolinacrossmen.com
SUMMARY:Blacks Creek
DESCRIPTION:Blacks Creek\, Commerce GA
URL:http://www.carolinacrossmen.com/event/blacks-creek-commerce-ga/
LOCATION:Blacks Creek Baptist Church\, 3754 Blacks Creek Church Road\, Commerce\, GA\, 30530\, United States
GEO:34.1978593;-83.3950194
X-APPLE-STRUCTURED-LOCATION;VALUE=URI;X-ADDRESS=Blacks Creek Baptist Church 3754 Blacks Creek Church Road Commerce GA 30530 United States;X-APPLE-RADIUS=500;X-TITLE=3754 Blacks Creek Church Road:geo:-83.3950194,34.1978593
END:VEVENT
BEGIN:VEVENT
DTSTART;TZID=America/New_York:20190106T100000
DTEND;TZID=America/New_York:20190106T120000
DTSTAMP:20260420T023131
CREATED:20190102T010601Z
LAST-MODIFIED:20190102T011249Z
UID:10000150-1546768800-1546776000@www.carolinacrossmen.com
SUMMARY:Pleasant Grove
DESCRIPTION:Pleasant Grove\, Jackson GA
URL:http://www.carolinacrossmen.com/event/pleasant-grove-jackson-ga/
LOCATION:Pleasant Grove\, Jackson\, GA\, United States
END:VEVENT
BEGIN:VEVENT
DTSTART;TZID=America/New_York:20181230T170000
DTEND;TZID=America/New_York:20181230T183000
DTSTAMP:20260420T023131
CREATED:20180501T233610Z
LAST-MODIFIED:20181230T084115Z
UID:10000138-1546189200-1546194600@www.carolinacrossmen.com
SUMMARY:Hog Mountain Baptist
DESCRIPTION:pm Hog Mountain baptist brazeltown ga
URL:http://www.carolinacrossmen.com/event/hog-mt-baptist/
LOCATION:Hogmount\, Brazelton\, GA
GEO:34.1092735;-83.7626729
END:VEVENT
BEGIN:VEVENT
DTSTART;TZID=America/New_York:20181230T100000
DTEND;TZID=America/New_York:20181230T190000
DTSTAMP:20260420T023131
CREATED:20180501T233521Z
LAST-MODIFIED:20181230T083919Z
UID:10000137-1546164000-1546196400@www.carolinacrossmen.com
SUMMARY:Rosebud Baptist
DESCRIPTION:12/30 Rose bud baptist loganville ga
URL:http://www.carolinacrossmen.com/event/rosebud-baptist-3/
LOCATION:Rosebud Baptist\, Loganville\, GA\, United States
GEO:33.8389977;-83.9007382
END:VEVENT
BEGIN:VEVENT
DTSTART;TZID=America/New_York:20181202T180000
DTEND;TZID=America/New_York:20181202T190000
DTSTAMP:20260420T023131
CREATED:20180501T233441Z
LAST-MODIFIED:20180501T233441Z
UID:10000136-1543773600-1543777200@www.carolinacrossmen.com
SUMMARY:Arial Baptist
DESCRIPTION:pm Arial baptist easley sc 6pm
URL:http://www.carolinacrossmen.com/event/arial-baptist/
LOCATION:Arial Baptist\, Easley\, SC
GEO:34.829838;-82.6015206
END:VEVENT
BEGIN:VEVENT
DTSTART;TZID=America/New_York:20181202T100000
DTEND;TZID=America/New_York:20181202T120000
DTSTAMP:20260420T023131
CREATED:20180501T233334Z
LAST-MODIFIED:20180501T233334Z
UID:10000135-1543744800-1543752000@www.carolinacrossmen.com
SUMMARY:Truth Fellowship
DESCRIPTION:12/2 Truth Fellowship carnesville\, GA 10
URL:http://www.carolinacrossmen.com/event/truth-fellowship-3/
LOCATION:Truth Fellowship\, Carnesville\, GA\, United States
GEO:34.3698266;-83.235155
END:VEVENT
BEGIN:VEVENT
DTSTART;TZID=America/New_York:20181118T103000
DTEND;TZID=America/New_York:20181118T123000
DTSTAMP:20260420T023131
CREATED:20180501T233254Z
LAST-MODIFIED:20180501T233254Z
UID:10000134-1542537000-1542544200@www.carolinacrossmen.com
SUMMARY:Promised Land Baptist
DESCRIPTION:11/18 promised land baptist 10:30 tuckaseegee old fashioned day
URL:http://www.carolinacrossmen.com/event/promised-land-baptist-2/
LOCATION:Promised Land\, Tuckasegee\, NC\, United States
GEO:35.2703778;-83.1226416
END:VEVENT
BEGIN:VEVENT
DTSTART;TZID=America/New_York:20181111T180000
DTEND;TZID=America/New_York:20181111T200000
DTSTAMP:20260420T023131
CREATED:20180718T141609Z
LAST-MODIFIED:20180718T141609Z
UID:10000146-1541959200-1541966400@www.carolinacrossmen.com
SUMMARY:Sunrise House of Worship
DESCRIPTION:
URL:http://www.carolinacrossmen.com/event/sunrise-house-of-worship/
LOCATION:Sunrise House of Worship\, Dillsboro\, NC\, United States
END:VEVENT
BEGIN:VEVENT
DTSTART;TZID=America/New_York:20181111T100000
DTEND;TZID=America/New_York:20181111T120000
DTSTAMP:20260420T023131
CREATED:20180501T233156Z
LAST-MODIFIED:20180501T233156Z
UID:10000133-1541930400-1541937600@www.carolinacrossmen.com
SUMMARY:Arlington Baptist
DESCRIPTION:11/11 arlington baptist 10am bryson
URL:http://www.carolinacrossmen.com/event/arlington-baptist-2/
LOCATION:Arlington Baptist\, Bryson City\, NC\, United States
GEO:35.4309291;-83.4473809
END:VEVENT
BEGIN:VEVENT
DTSTART;TZID=America/New_York:20181104T180000
DTEND;TZID=America/New_York:20181104T190000
DTSTAMP:20260420T023131
CREATED:20180929T234243Z
LAST-MODIFIED:20180929T234243Z
UID:10000149-1541354400-1541358000@www.carolinacrossmen.com
SUMMARY:Battle Branch Baptist
DESCRIPTION:
URL:http://www.carolinacrossmen.com/event/battle-branch-baptist/
LOCATION:Battle Branch\, Clayton\, GA\, United States
END:VEVENT
BEGIN:VEVENT
DTSTART;TZID=America/New_York:20181104T100000
DTEND;TZID=America/New_York:20181104T120000
DTSTAMP:20260420T023131
CREATED:20180501T233108Z
LAST-MODIFIED:20180501T233108Z
UID:10000132-1541325600-1541332800@www.carolinacrossmen.com
SUMMARY:First Assembly of God
DESCRIPTION:11/4 first assembly of god clayton ga 10
URL:http://www.carolinacrossmen.com/event/first-assembly-of-god-2/
LOCATION:First Assembly of God\, Clayton\, GA\, United States
GEO:34.8781479;-83.4009933
END:VEVENT
BEGIN:VEVENT
DTSTART;TZID=America/New_York:20181028T100000
DTEND;TZID=America/New_York:20181028T120000
DTSTAMP:20260420T023131
CREATED:20180501T233026Z
LAST-MODIFIED:20180501T233026Z
UID:10000131-1540720800-1540728000@www.carolinacrossmen.com
SUMMARY:Nail's Crek
DESCRIPTION:10/28 nails creek homer ga 10
URL:http://www.carolinacrossmen.com/event/nails-crek/
LOCATION:Nails Creek Baptist\, Homer\, GA\, United States
GEO:34.3337156;-83.499055
END:VEVENT
BEGIN:VEVENT
DTSTART;TZID=America/New_York:20181021T100000
DTEND;TZID=America/New_York:20181021T120000
DTSTAMP:20260420T023131
CREATED:20180501T232939Z
LAST-MODIFIED:20180816T224733Z
UID:10000130-1540116000-1540123200@www.carolinacrossmen.com
SUMMARY:Flat Shoals Baptist - CANCELLED
DESCRIPTION:10/21 flat shoals baptist hart well ga
URL:http://www.carolinacrossmen.com/event/flat-shoals-baptist/
LOCATION:Flat Shoals\, Hartwell\, GA
GEO:34.3528825;-82.932087
END:VEVENT
BEGIN:VEVENT
DTSTART;TZID=America/New_York:20181014T190000
DTEND;TZID=America/New_York:20181014T200000
DTSTAMP:20260420T023131
CREATED:20180501T232839Z
LAST-MODIFIED:20180501T232839Z
UID:10000129-1539543600-1539547200@www.carolinacrossmen.com
SUMMARY:Holder's Grove
DESCRIPTION:pm holders grove\, cosbey tn 7
URL:http://www.carolinacrossmen.com/event/holders-grove-3/
LOCATION:Holder’s Grove\, Cosbey\, TN\, United States
GEO:35.8154772;-83.2477597
END:VEVENT
BEGIN:VEVENT
DTSTART;TZID=America/New_York:20181014T100000
DTEND;TZID=America/New_York:20181014T120000
DTSTAMP:20260420T023131
CREATED:20180501T232756Z
LAST-MODIFIED:20180501T232756Z
UID:10000128-1539511200-1539518400@www.carolinacrossmen.com
SUMMARY:Pigeon Valley
DESCRIPTION:10/14 Pigeon Valley Hartford Tn 10
URL:http://www.carolinacrossmen.com/event/pigeon-valley-2/
LOCATION:Pigeon Valley\, Hartford\, TN\, United States
GEO:35.8167646;-83.1432066
END:VEVENT
BEGIN:VEVENT
DTSTART;TZID=America/New_York:20181007T180000
DTEND;TZID=America/New_York:20181007T200000
DTSTAMP:20260420T023131
CREATED:20180718T141451Z
LAST-MODIFIED:20180718T141451Z
UID:10000147-1538935200-1538942400@www.carolinacrossmen.com
SUMMARY:Oakdale Baptist Church
DESCRIPTION:
URL:http://www.carolinacrossmen.com/event/oakdale-baptist-church/
LOCATION:Oakdale Baptist\, Canton\, GA\, United States
GEO:34.2367621;-84.4907621
END:VEVENT
BEGIN:VEVENT
DTSTART;TZID=America/New_York:20181007T100000
DTEND;TZID=America/New_York:20181007T120000
DTSTAMP:20260420T023131
CREATED:20180718T141133Z
LAST-MODIFIED:20180718T141133Z
UID:10000145-1538906400-1538913600@www.carolinacrossmen.com
SUMMARY:River of Life
DESCRIPTION:
URL:http://www.carolinacrossmen.com/event/river-of-life-2/
LOCATION:River of Life\, McCaysville\, GA\, United States
GEO:34.9861914;-84.3713117
END:VEVENT
BEGIN:VEVENT
DTSTART;TZID=America/New_York:20180930T100000
DTEND;TZID=America/New_York:20180930T120000
DTSTAMP:20260420T023131
CREATED:20180501T232645Z
LAST-MODIFIED:20180501T232645Z
UID:10000127-1538301600-1538308800@www.carolinacrossmen.com
SUMMARY:Camps Creek
DESCRIPTION:9/30 Camps Creek 10 moresboro nc
URL:http://www.carolinacrossmen.com/event/camps-creek-2/
LOCATION:Camps Creek Baptist\, Mooresboro\, NC\, United States
GEO:35.2987362;-81.6989863
END:VEVENT
BEGIN:VEVENT
DTSTART;TZID=America/New_York:20180923T190000
DTEND;TZID=America/New_York:20180923T200000
DTSTAMP:20260420T023131
CREATED:20180501T232608Z
LAST-MODIFIED:20180501T232608Z
UID:10000126-1537729200-1537732800@www.carolinacrossmen.com
SUMMARY:Tate's Creek
DESCRIPTION:9/23 Tates Creek Toccoa ga 7pm
URL:http://www.carolinacrossmen.com/event/tates-creek-2/
LOCATION:Tate’s Creek\, Toccoa\, GA\, United States
GEO:34.5773206;-83.3323851
END:VEVENT
BEGIN:VEVENT
DTSTART;TZID=America/New_York:20180923T100000
DTEND;TZID=America/New_York:20180923T120000
DTSTAMP:20260420T023131
CREATED:20180716T233804Z
LAST-MODIFIED:20180716T233804Z
UID:10000143-1537696800-1537704000@www.carolinacrossmen.com
SUMMARY:Mt Airy Baptist
DESCRIPTION:
URL:http://www.carolinacrossmen.com/event/mt-airy-baptist/
LOCATION:Mt Airy\, Mt. Airy\, GA\, United States
GEO:34.5187106;-83.5007265
END:VEVENT
BEGIN:VEVENT
DTSTART;TZID=America/New_York:20180916T180000
DTEND;TZID=America/New_York:20180916T190000
DTSTAMP:20260420T023131
CREATED:20180501T232526Z
LAST-MODIFIED:20180808T122207Z
UID:10000125-1537120800-1537124400@www.carolinacrossmen.com
SUMMARY:High Point - POSTPONED - TBA
DESCRIPTION:pm high point cog 6 frolona ga
URL:http://www.carolinacrossmen.com/event/high-point/
LOCATION:High Point\, Frolona\, GA\, United States
GEO:33.324561;-85.2360568
END:VEVENT
BEGIN:VEVENT
DTSTART;TZID=America/New_York:20180916T100000
DTEND;TZID=America/New_York:20180916T120000
DTSTAMP:20260420T023131
CREATED:20180716T234432Z
LAST-MODIFIED:20180808T122157Z
UID:10000144-1537092000-1537099200@www.carolinacrossmen.com
SUMMARY:Newnan\, GA - POSTPONED - TBA
DESCRIPTION:TBA
URL:http://www.carolinacrossmen.com/event/newnan-ga/
LOCATION:NC
END:VEVENT
BEGIN:VEVENT
DTSTART;TZID=America/New_York:20180826T100000
DTEND;TZID=America/New_York:20180826T120000
DTSTAMP:20260420T023131
CREATED:20180501T232415Z
LAST-MODIFIED:20180501T232415Z
UID:10000124-1535277600-1535284800@www.carolinacrossmen.com
SUMMARY:Sawmill Hill FWB
DESCRIPTION:8/26 Sawmill Hill FWB 10
URL:http://www.carolinacrossmen.com/event/sawmill-hill-fwb-2/
LOCATION:Saw Mill Hill\, Bryson City\, NC\, United States
GEO:35.4309291;-83.4473809
END:VEVENT
BEGIN:VEVENT
DTSTART;TZID=America/New_York:20180825T170000
DTEND;TZID=America/New_York:20180825T190000
DTSTAMP:20260420T023131
CREATED:20180808T122608Z
LAST-MODIFIED:20180808T122608Z
UID:10000148-1535216400-1535223600@www.carolinacrossmen.com
SUMMARY:Cross Creek RV Park
DESCRIPTION:Cross Creek RV Park  -Maggie Valley 5pm
URL:http://www.carolinacrossmen.com/event/cross-creek-rv-park/
LOCATION:Cross Creek RV Park\, Maggie Valley\, NC\, United States
GEO:35.5181575;-83.0976419
END:VEVENT
END:VCALENDAR