BEGIN:VCALENDAR
VERSION:2.0
PRODID:-//CarolinaCrossmen - ECPv6.4.0.1//NONSGML v1.0//EN
CALSCALE:GREGORIAN
METHOD:PUBLISH
X-WR-CALNAME:CarolinaCrossmen
X-ORIGINAL-URL:http://www.carolinacrossmen.com
X-WR-CALDESC:Events for CarolinaCrossmen
REFRESH-INTERVAL;VALUE=DURATION:PT1H
X-Robots-Tag:noindex
X-PUBLISHED-TTL:PT1H
BEGIN:VTIMEZONE
TZID:America/New_York
BEGIN:DAYLIGHT
TZOFFSETFROM:-0500
TZOFFSETTO:-0400
TZNAME:EDT
DTSTART:20170312T070000
END:DAYLIGHT
BEGIN:STANDARD
TZOFFSETFROM:-0400
TZOFFSETTO:-0500
TZNAME:EST
DTSTART:20171105T060000
END:STANDARD
BEGIN:DAYLIGHT
TZOFFSETFROM:-0500
TZOFFSETTO:-0400
TZNAME:EDT
DTSTART:20180311T070000
END:DAYLIGHT
BEGIN:STANDARD
TZOFFSETFROM:-0400
TZOFFSETTO:-0500
TZNAME:EST
DTSTART:20181104T060000
END:STANDARD
END:VTIMEZONE
BEGIN:VEVENT
DTSTART;TZID=America/New_York:20180324T160000
DTEND;TZID=America/New_York:20180324T180000
DTSTAMP:20260419T162319
CREATED:20180126T234504Z
LAST-MODIFIED:20180325T113647Z
UID:10000107-1521907200-1521914400@www.carolinacrossmen.com
SUMMARY:Poor Man's Supper Fundraiser
DESCRIPTION:
URL:http://www.carolinacrossmen.com/event/poor-mans-supper-fundraiser/
LOCATION:Balsam VFD\, Sylva\, NC\, United States
GEO:35.3737111;-83.2259803
END:VEVENT
BEGIN:VEVENT
DTSTART;TZID=America/New_York:20180318T100000
DTEND;TZID=America/New_York:20180318T120000
DTSTAMP:20260419T162319
CREATED:20180207T185407Z
LAST-MODIFIED:20180207T185407Z
UID:10000112-1521367200-1521374400@www.carolinacrossmen.com
SUMMARY:Deep Creek Baptist
DESCRIPTION:
URL:http://www.carolinacrossmen.com/event/deep-creek-baptist-2/
LOCATION:Deep Creek Baptist\, Bryson City\, NC\, United States
GEO:35.4309291;-83.4473809
END:VEVENT
BEGIN:VEVENT
DTSTART;TZID=America/New_York:20180304T180000
DTEND;TZID=America/New_York:20180304T190000
DTSTAMP:20260419T162319
CREATED:20180126T233126Z
LAST-MODIFIED:20180207T004252Z
UID:10000105-1520186400-1520190000@www.carolinacrossmen.com
SUMMARY:Currahee Church
DESCRIPTION:
URL:http://www.carolinacrossmen.com/event/currahee-church/
LOCATION:Currahee Baptist\, Toccoa\, GA\, United States
GEO:34.5773206;-83.3323851
END:VEVENT
BEGIN:VEVENT
DTSTART;TZID=America/New_York:20180304T100000
DTEND;TZID=America/New_York:20180304T120000
DTSTAMP:20260419T162319
CREATED:20180126T232826Z
LAST-MODIFIED:20180207T004402Z
UID:10000103-1520157600-1520164800@www.carolinacrossmen.com
SUMMARY:Poplar Springs Baptist Church
DESCRIPTION:Poplar Springs Baptist Church
URL:http://www.carolinacrossmen.com/event/poplar-springs-baptist-church/
LOCATION:Poplar Springs\, Watkinsville\, GA\, United States
GEO:33.8628959;-83.4087708
END:VEVENT
BEGIN:VEVENT
DTSTART;TZID=America/New_York:20171203T100000
DTEND;TZID=America/New_York:20171203T120000
DTSTAMP:20260419T162319
CREATED:20170621T000247Z
LAST-MODIFIED:20170621T000247Z
UID:10000101-1512295200-1512302400@www.carolinacrossmen.com
SUMMARY:Cove Creek Baptist
DESCRIPTION:
URL:http://www.carolinacrossmen.com/event/cove-creek-baptist-2/
LOCATION:Cove Creek Baptist\, Clyde\, NC\, United States
GEO:35.5334379;-82.910691
END:VEVENT
BEGIN:VEVENT
DTSTART;TZID=America/New_York:20171119T103000
DTEND;TZID=America/New_York:20171119T120000
DTSTAMP:20260419T162319
CREATED:20170621T000103Z
LAST-MODIFIED:20170621T000103Z
UID:10000020-1511087400-1511092800@www.carolinacrossmen.com
SUMMARY:Promised Land Baptist
DESCRIPTION:
URL:http://www.carolinacrossmen.com/event/promised-land-baptist/
LOCATION:Promised Land\, Tuckasegee\, NC\, United States
GEO:35.2703778;-83.1226416
END:VEVENT
BEGIN:VEVENT
DTSTART;TZID=America/New_York:20171029T100000
DTEND;TZID=America/New_York:20171029T120000
DTSTAMP:20260419T162319
CREATED:20170620T235928Z
LAST-MODIFIED:20170620T235928Z
UID:10000019-1509271200-1509278400@www.carolinacrossmen.com
SUMMARY:Rosebud Baptist
DESCRIPTION:
URL:http://www.carolinacrossmen.com/event/rosebud-baptist-2/
LOCATION:Rosebud Baptist\, Loganville\, GA\, United States
GEO:33.8389977;-83.9007382
END:VEVENT
BEGIN:VEVENT
DTSTART;TZID=America/New_York:20171015T100000
DTEND;TZID=America/New_York:20171015T120000
DTSTAMP:20260419T162319
CREATED:20170620T235854Z
LAST-MODIFIED:20170620T235854Z
UID:10000018-1508061600-1508068800@www.carolinacrossmen.com
SUMMARY:Truth Fellowship
DESCRIPTION:
URL:http://www.carolinacrossmen.com/event/truth-fellowship-2/
LOCATION:Truth Fellowship\, Carnesville\, GA\, United States
GEO:34.3698266;-83.235155
END:VEVENT
BEGIN:VEVENT
DTSTART;TZID=America/New_York:20171008T190000
DTEND;TZID=America/New_York:20171008T203000
DTSTAMP:20260419T162319
CREATED:20170620T235756Z
LAST-MODIFIED:20170620T235756Z
UID:10000017-1507489200-1507494600@www.carolinacrossmen.com
SUMMARY:Holders Grove
DESCRIPTION:
URL:http://www.carolinacrossmen.com/event/holders-grove-2/
LOCATION:Holder’s Grove\, Cosbey\, TN\, United States
GEO:35.8154772;-83.2477597
END:VEVENT
BEGIN:VEVENT
DTSTART;TZID=America/New_York:20171008T100000
DTEND;TZID=America/New_York:20171008T120000
DTSTAMP:20260419T162319
CREATED:20170620T235722Z
LAST-MODIFIED:20170620T235722Z
UID:10000016-1507456800-1507464000@www.carolinacrossmen.com
SUMMARY:Pigeon Valley Baptist
DESCRIPTION:
URL:http://www.carolinacrossmen.com/event/pigeon-valley-baptist/
LOCATION:Pigeon Valley\, Hartford\, TN\, United States
GEO:35.8167646;-83.1432066
END:VEVENT
BEGIN:VEVENT
DTSTART;TZID=America/New_York:20171001T180000
DTEND;TZID=America/New_York:20171001T193000
DTSTAMP:20260419T162319
CREATED:20170620T235644Z
LAST-MODIFIED:20170620T235644Z
UID:10000015-1506880800-1506886200@www.carolinacrossmen.com
SUMMARY:Camps Creek
DESCRIPTION:
URL:http://www.carolinacrossmen.com/event/camps-creek/
LOCATION:Camps Creek Baptist\, Mooresboro\, NC\, United States
GEO:35.2987362;-81.6989863
END:VEVENT
BEGIN:VEVENT
DTSTART;TZID=America/New_York:20171001T103000
DTEND;TZID=America/New_York:20171001T120000
DTSTAMP:20260419T162319
CREATED:20170308T011638Z
LAST-MODIFIED:20170308T011638Z
UID:10000093-1506853800-1506859200@www.carolinacrossmen.com
SUMMARY:Arlington Baptist
DESCRIPTION:arlington baptist\, bryson city nc 10:30am
URL:http://www.carolinacrossmen.com/event/arlington-baptist/
LOCATION:Arlington Baptist\, Bryson City\, NC\, United States
GEO:35.4309291;-83.4473809
END:VEVENT
BEGIN:VEVENT
DTSTART;TZID=America/New_York:20170924T100000
DTEND;TZID=America/New_York:20170924T120000
DTSTAMP:20260419T162319
CREATED:20170620T235608Z
LAST-MODIFIED:20170620T235608Z
UID:10000014-1506247200-1506254400@www.carolinacrossmen.com
SUMMARY:Lanier Church of God
DESCRIPTION:
URL:http://www.carolinacrossmen.com/event/lanier-church-of-god/
LOCATION:Lanier Church of God\, Buford\, GA\, United States
GEO:34.1206564;-84.0043513
END:VEVENT
BEGIN:VEVENT
DTSTART;TZID=America/New_York:20170917T100000
DTEND;TZID=America/New_York:20170917T120000
DTSTAMP:20260419T162319
CREATED:20170308T011546Z
LAST-MODIFIED:20170308T011546Z
UID:10000092-1505642400-1505649600@www.carolinacrossmen.com
SUMMARY:East Black Mountain FWB
DESCRIPTION:east black mountain freewill baptist 10am black mtn nc
URL:http://www.carolinacrossmen.com/event/east-black-mountain-fwb/
LOCATION:GA
END:VEVENT
BEGIN:VEVENT
DTSTART;TZID=America/New_York:20170827T100000
DTEND;TZID=America/New_York:20170827T120000
DTSTAMP:20260419T162319
CREATED:20170620T235510Z
LAST-MODIFIED:20170620T235510Z
UID:10000013-1503828000-1503835200@www.carolinacrossmen.com
SUMMARY:Sawmill Hill FWB
DESCRIPTION:
URL:http://www.carolinacrossmen.com/event/sawmill-hill-fwb/
LOCATION:Saw Mill Hill\, Bryson City\, NC\, United States
GEO:35.4309291;-83.4473809
END:VEVENT
BEGIN:VEVENT
DTSTART;TZID=America/New_York:20170820T180000
DTEND;TZID=America/New_York:20170820T193000
DTSTAMP:20260419T162319
CREATED:20170620T235422Z
LAST-MODIFIED:20170620T235422Z
UID:10000012-1503252000-1503257400@www.carolinacrossmen.com
SUMMARY:Clear View Baptist
DESCRIPTION:
URL:http://www.carolinacrossmen.com/event/clear-view-baptist/
LOCATION:Clear View Baptist\, Cornelia\, GA\, United States
GEO:34.5114883;-83.5271166
END:VEVENT
BEGIN:VEVENT
DTSTART;TZID=America/New_York:20170820T100000
DTEND;TZID=America/New_York:20170820T120000
DTSTAMP:20260419T162319
CREATED:20170620T235325Z
LAST-MODIFIED:20170620T235325Z
UID:10000011-1503223200-1503230400@www.carolinacrossmen.com
SUMMARY:Rock Springs Baptist
DESCRIPTION:
URL:http://www.carolinacrossmen.com/event/rock-springs-baptist-2/
LOCATION:Rock Springs Baptist\, Cherokee\, NC\, United States
GEO:35.4770574;-83.3205859
END:VEVENT
BEGIN:VEVENT
DTSTART;TZID=America/New_York:20170813T143000
DTEND;TZID=America/New_York:20170813T160000
DTSTAMP:20260419T162319
CREATED:20170620T235233Z
LAST-MODIFIED:20170620T235233Z
UID:10000100-1502634600-1502640000@www.carolinacrossmen.com
SUMMARY:Landmark Baptist
DESCRIPTION:
URL:http://www.carolinacrossmen.com/event/landmark-baptist-2/
LOCATION:Landmark Baptist\, Highpoint \, NC\, United States
GEO:35.9556923;-80.0053176
END:VEVENT
BEGIN:VEVENT
DTSTART;TZID=America/New_York:20170730T100000
DTEND;TZID=America/New_York:20170730T120000
DTSTAMP:20260419T162319
CREATED:20170620T235134Z
LAST-MODIFIED:20170620T235134Z
UID:10000099-1501408800-1501416000@www.carolinacrossmen.com
SUMMARY:Buff Creek Baptist
DESCRIPTION:
URL:http://www.carolinacrossmen.com/event/buff-creek-baptist/
LOCATION:Buff Creek Baptist\, Sylva\, NC\, United States
GEO:35.3737111;-83.2259803
END:VEVENT
BEGIN:VEVENT
DTSTART;TZID=America/New_York:20170723T103000
DTEND;TZID=America/New_York:20170723T120000
DTSTAMP:20260419T162319
CREATED:20170620T235047Z
LAST-MODIFIED:20170620T235047Z
UID:10000098-1500805800-1500811200@www.carolinacrossmen.com
SUMMARY:Broad River Baptist
DESCRIPTION:
URL:http://www.carolinacrossmen.com/event/broad-river-baptist/
LOCATION:Broad River Baptist\, Eastanollee\, GA\, United States
GEO:34.520378;-83.2554372
END:VEVENT
BEGIN:VEVENT
DTSTART;TZID=America/New_York:20170625T100000
DTEND;TZID=America/New_York:20170625T120000
DTSTAMP:20260419T162319
CREATED:20170620T232104Z
LAST-MODIFIED:20170620T232104Z
UID:10000097-1498384800-1498392000@www.carolinacrossmen.com
SUMMARY:Warrenville Church of God
DESCRIPTION:
URL:http://www.carolinacrossmen.com/event/warrenville-church-of-god/
LOCATION:Warrenville Church of God\, Warrenville\, SC\, United States
GEO:33.5509706;-81.8039998
END:VEVENT
BEGIN:VEVENT
DTSTART;TZID=America/New_York:20170521T100000
DTEND;TZID=America/New_York:20170521T123000
DTSTAMP:20260419T162319
CREATED:20170326T133159Z
LAST-MODIFIED:20170326T133159Z
UID:10000096-1495360800-1495369800@www.carolinacrossmen.com
SUMMARY:Mt. Vernon FWB
DESCRIPTION:Old fashioned Sunday
URL:http://www.carolinacrossmen.com/event/mt-vernon-fwb/
LOCATION:Mt Vernon Baptist\, Bryson City\, NC\, United States
GEO:35.4309291;-83.4473809
END:VEVENT
BEGIN:VEVENT
DTSTART;TZID=America/New_York:20170513T110000
DTEND;TZID=America/New_York:20170513T120000
DTSTAMP:20260419T162319
CREATED:20170308T011336Z
LAST-MODIFIED:20170510T231949Z
UID:10000091-1494673200-1494676800@www.carolinacrossmen.com
SUMMARY:Broyhill Children's Home BBQ (see update...)
DESCRIPTION:Due to several graduations scheduled after we booked this event\, we regret that the Carolina Crossmen will not be able to sing at this benefit this year. Please take the opportunity to support the Broyhilll children home 11am bbq fundraiser in clyde nc. There will be other groups singing and some great BBQ! \nWe look forward to being a part of this event again in the future. \n\n\n\nwe look
URL:http://www.carolinacrossmen.com/event/broyhill-childrens-home-bbq/
LOCATION:Broyhill Children’s Home\, Clyde\, NC\, United States
GEO:35.5334379;-82.910691
END:VEVENT
BEGIN:VEVENT
DTSTART;TZID=America/New_York:20170430T180000
DTEND;TZID=America/New_York:20170430T193000
DTSTAMP:20260419T162319
CREATED:20170119T034555Z
LAST-MODIFIED:20170228T205616Z
UID:10000007-1493575200-1493580600@www.carolinacrossmen.com
SUMMARY:Holly Springs Baptist
DESCRIPTION:
URL:http://www.carolinacrossmen.com/event/holly-springs-baptist/
LOCATION:Holly Springs Baptist\, Pickens\, SC\, United States
GEO:34.8834489;-82.7073573
END:VEVENT
BEGIN:VEVENT
DTSTART;TZID=America/New_York:20170430T100000
DTEND;TZID=America/New_York:20170430T120000
DTSTAMP:20260419T162319
CREATED:20170119T034645Z
LAST-MODIFIED:20170119T034645Z
UID:10000008-1493546400-1493553600@www.carolinacrossmen.com
SUMMARY:Beaverdam Baptist
DESCRIPTION:
URL:http://www.carolinacrossmen.com/event/beaverdam-baptist/
LOCATION:Beaverdam Baptist\, Clyde\, NC\, United States
GEO:35.5334379;-82.910691
END:VEVENT
BEGIN:VEVENT
DTSTART;TZID=America/New_York:20170423T180000
DTEND;TZID=America/New_York:20170423T193000
DTSTAMP:20260419T162319
CREATED:20170311T205221Z
LAST-MODIFIED:20170311T205221Z
UID:10000095-1492970400-1492975800@www.carolinacrossmen.com
SUMMARY:Higgins Chapel Baptist
DESCRIPTION:Higgins Chapel Baptist
URL:http://www.carolinacrossmen.com/event/higgins-chapel-baptist/
LOCATION:Higgins Chapel\, Flag Pond\, TN\, United States
GEO:36.015385;-82.5570836
END:VEVENT
BEGIN:VEVENT
DTSTART;TZID=America/New_York:20170423T100000
DTEND;TZID=America/New_York:20170423T120000
DTSTAMP:20260419T162319
CREATED:20170311T205020Z
LAST-MODIFIED:20170311T205020Z
UID:10000094-1492941600-1492948800@www.carolinacrossmen.com
SUMMARY:Sweetwater Church of God
DESCRIPTION:Sweetwater Church of God
URL:http://www.carolinacrossmen.com/event/sweetwater-church-of-god/
LOCATION:Sweetwater Church of God\, Flag Pon\, TN\, United States
GEO:36.015385;-82.5570836
END:VEVENT
BEGIN:VEVENT
DTSTART;TZID=America/New_York:20170402T100000
DTEND;TZID=America/New_York:20170402T120000
DTSTAMP:20260419T162319
CREATED:20170119T034433Z
LAST-MODIFIED:20170119T034433Z
UID:10000006-1491127200-1491134400@www.carolinacrossmen.com
SUMMARY:Oak Bowers Baptist
DESCRIPTION:
URL:http://www.carolinacrossmen.com/event/oak-bowers-baptist/
LOCATION:Oak Bowers\, Hartwell\, GA\, United States
GEO:34.3528825;-82.932087
END:VEVENT
BEGIN:VEVENT
DTSTART;TZID=America/New_York:20170325T150000
DTEND;TZID=America/New_York:20170325T180000
DTSTAMP:20260419T162319
CREATED:20170308T010958Z
LAST-MODIFIED:20170308T010958Z
UID:10000010-1490454000-1490464800@www.carolinacrossmen.com
SUMMARY:Balsam VFD Ochre Hill Poor Mans Supper
DESCRIPTION:With Hollerin’ Home
URL:http://www.carolinacrossmen.com/event/balsam-vfd-ochre-hill-poor-mans-supper/
LOCATION:Balsam VFD\, Sylva\, NC\, United States
GEO:35.3737111;-83.2259803
END:VEVENT
BEGIN:VEVENT
DTSTART;TZID=America/New_York:20170319T100000
DTEND;TZID=America/New_York:20170319T120000
DTSTAMP:20260419T162319
CREATED:20170308T010725Z
LAST-MODIFIED:20170308T010725Z
UID:10000009-1489917600-1489924800@www.carolinacrossmen.com
SUMMARY:Nails Creek Baptist
DESCRIPTION:
URL:http://www.carolinacrossmen.com/event/nails-creek-baptist/
LOCATION:Nails Creek Baptist\, Homer\, GA\, United States
GEO:34.3337156;-83.499055
END:VEVENT
END:VCALENDAR