BEGIN:VCALENDAR
VERSION:2.0
PRODID:-//CarolinaCrossmen - ECPv6.4.0.1//NONSGML v1.0//EN
CALSCALE:GREGORIAN
METHOD:PUBLISH
X-WR-CALNAME:CarolinaCrossmen
X-ORIGINAL-URL:http://www.carolinacrossmen.com
X-WR-CALDESC:Events for CarolinaCrossmen
REFRESH-INTERVAL;VALUE=DURATION:PT1H
X-Robots-Tag:noindex
X-PUBLISHED-TTL:PT1H
BEGIN:VTIMEZONE
TZID:America/New_York
BEGIN:DAYLIGHT
TZOFFSETFROM:-0500
TZOFFSETTO:-0400
TZNAME:EDT
DTSTART:20170312T070000
END:DAYLIGHT
BEGIN:STANDARD
TZOFFSETFROM:-0400
TZOFFSETTO:-0500
TZNAME:EST
DTSTART:20171105T060000
END:STANDARD
BEGIN:DAYLIGHT
TZOFFSETFROM:-0500
TZOFFSETTO:-0400
TZNAME:EDT
DTSTART:20180311T070000
END:DAYLIGHT
BEGIN:STANDARD
TZOFFSETFROM:-0400
TZOFFSETTO:-0500
TZNAME:EST
DTSTART:20181104T060000
END:STANDARD
BEGIN:DAYLIGHT
TZOFFSETFROM:-0500
TZOFFSETTO:-0400
TZNAME:EDT
DTSTART:20190310T070000
END:DAYLIGHT
BEGIN:STANDARD
TZOFFSETFROM:-0400
TZOFFSETTO:-0500
TZNAME:EST
DTSTART:20191103T060000
END:STANDARD
END:VTIMEZONE
BEGIN:VEVENT
DTSTART;TZID=America/New_York:20190511T100000
DTEND;TZID=America/New_York:20190511T140000
DTSTAMP:20260419T161404
CREATED:20190303T215022Z
LAST-MODIFIED:20190303T215022Z
UID:10000157-1557568800-1557583200@www.carolinacrossmen.com
SUMMARY:Broyhill Hill Children’s Home
DESCRIPTION:Annual Ride to Clyde and BBQ Festival fundraiser for Baptist Children’s Home. \nBBQ\, Gospel Music\, crafts tents. Car/truck/motorcycle show. \nwe have been blessed to be a small part of this event for several years. It is always our blessing to participate and support this great ministry and the wonderful people including our dear friends\, the Porter Family.
URL:http://www.carolinacrossmen.com/event/broyhill-hill-childrens-home/
LOCATION:Broyhill Children’s Home\, Clyde\, NC\, United States
GEO:35.5334379;-82.910691
END:VEVENT
BEGIN:VEVENT
DTSTART;TZID=America/New_York:20180512T110000
DTEND;TZID=America/New_York:20180512T150000
DTSTAMP:20260419T161404
CREATED:20180126T234758Z
LAST-MODIFIED:20180126T234758Z
UID:10000110-1526122800-1526137200@www.carolinacrossmen.com
SUMMARY:Broyhill Children’s Home
DESCRIPTION:Broyhill children’s home Saturday
URL:http://www.carolinacrossmen.com/event/broyhill-childrens-home/
LOCATION:Broyhill Children’s Home\, Clyde\, NC\, United States
GEO:35.5334379;-82.910691
END:VEVENT
BEGIN:VEVENT
DTSTART;TZID=America/New_York:20170513T110000
DTEND;TZID=America/New_York:20170513T120000
DTSTAMP:20260419T161404
CREATED:20170308T011336Z
LAST-MODIFIED:20170510T231949Z
UID:10000091-1494673200-1494676800@www.carolinacrossmen.com
SUMMARY:Broyhill Children's Home BBQ (see update...)
DESCRIPTION:Due to several graduations scheduled after we booked this event\, we regret that the Carolina Crossmen will not be able to sing at this benefit this year. Please take the opportunity to support the Broyhilll children home 11am bbq fundraiser in clyde nc. There will be other groups singing and some great BBQ! \nWe look forward to being a part of this event again in the future. \n\n\n\nwe look
URL:http://www.carolinacrossmen.com/event/broyhill-childrens-home-bbq/
LOCATION:Broyhill Children’s Home\, Clyde\, NC\, United States
GEO:35.5334379;-82.910691
END:VEVENT
END:VCALENDAR