BEGIN:VCALENDAR
VERSION:2.0
PRODID:-//CarolinaCrossmen - ECPv6.4.0.1//NONSGML v1.0//EN
CALSCALE:GREGORIAN
METHOD:PUBLISH
X-ORIGINAL-URL:http://www.carolinacrossmen.com
X-WR-CALDESC:Events for CarolinaCrossmen
REFRESH-INTERVAL;VALUE=DURATION:PT1H
X-Robots-Tag:noindex
X-PUBLISHED-TTL:PT1H
BEGIN:VTIMEZONE
TZID:America/New_York
BEGIN:DAYLIGHT
TZOFFSETFROM:-0500
TZOFFSETTO:-0400
TZNAME:EDT
DTSTART:20170312T070000
END:DAYLIGHT
BEGIN:STANDARD
TZOFFSETFROM:-0400
TZOFFSETTO:-0500
TZNAME:EST
DTSTART:20171105T060000
END:STANDARD
BEGIN:DAYLIGHT
TZOFFSETFROM:-0500
TZOFFSETTO:-0400
TZNAME:EDT
DTSTART:20180311T070000
END:DAYLIGHT
BEGIN:STANDARD
TZOFFSETFROM:-0400
TZOFFSETTO:-0500
TZNAME:EST
DTSTART:20181104T060000
END:STANDARD
BEGIN:DAYLIGHT
TZOFFSETFROM:-0500
TZOFFSETTO:-0400
TZNAME:EDT
DTSTART:20190310T070000
END:DAYLIGHT
BEGIN:STANDARD
TZOFFSETFROM:-0400
TZOFFSETTO:-0500
TZNAME:EST
DTSTART:20191103T060000
END:STANDARD
BEGIN:DAYLIGHT
TZOFFSETFROM:-0500
TZOFFSETTO:-0400
TZNAME:EDT
DTSTART:20200308T070000
END:DAYLIGHT
BEGIN:STANDARD
TZOFFSETFROM:-0400
TZOFFSETTO:-0500
TZNAME:EST
DTSTART:20201101T060000
END:STANDARD
BEGIN:DAYLIGHT
TZOFFSETFROM:-0500
TZOFFSETTO:-0400
TZNAME:EDT
DTSTART:20210314T070000
END:DAYLIGHT
BEGIN:STANDARD
TZOFFSETFROM:-0400
TZOFFSETTO:-0500
TZNAME:EST
DTSTART:20211107T060000
END:STANDARD
BEGIN:DAYLIGHT
TZOFFSETFROM:-0500
TZOFFSETTO:-0400
TZNAME:EDT
DTSTART:20220313T070000
END:DAYLIGHT
BEGIN:STANDARD
TZOFFSETFROM:-0400
TZOFFSETTO:-0500
TZNAME:EST
DTSTART:20221106T060000
END:STANDARD
END:VTIMEZONE
BEGIN:VEVENT
DTSTART;TZID=America/New_York:20220731T100000
DTEND;TZID=America/New_York:20220731T120000
DTSTAMP:20260419T161237
CREATED:20220426T234330Z
LAST-MODIFIED:20220426T234330Z
UID:10000205-1659261600-1659268800@www.carolinacrossmen.com
SUMMARY:Buff Creek Baptist
DESCRIPTION:
URL:http://www.carolinacrossmen.com/event/buff-creek-baptist-3/
LOCATION:Buff Creek Baptist\, Sylva\, NC\, United States
GEO:35.3737111;-83.2259803
END:VEVENT
BEGIN:VEVENT
DTSTART;TZID=America/New_York:20190929T100000
DTEND;TZID=America/New_York:20190929T120000
DTSTAMP:20260419T161237
CREATED:20190319T235020Z
LAST-MODIFIED:20190319T235020Z
UID:10000076-1569751200-1569758400@www.carolinacrossmen.com
SUMMARY:Buff Creek Baptist
DESCRIPTION:
URL:http://www.carolinacrossmen.com/event/buff-creek-baptist-2/
LOCATION:Buff Creek Baptist\, Sylva\, NC\, United States
GEO:35.3737111;-83.2259803
END:VEVENT
BEGIN:VEVENT
DTSTART;TZID=America/New_York:20170730T100000
DTEND;TZID=America/New_York:20170730T120000
DTSTAMP:20260419T161237
CREATED:20170620T235134Z
LAST-MODIFIED:20170620T235134Z
UID:10000099-1501408800-1501416000@www.carolinacrossmen.com
SUMMARY:Buff Creek Baptist
DESCRIPTION:
URL:http://www.carolinacrossmen.com/event/buff-creek-baptist/
LOCATION:Buff Creek Baptist\, Sylva\, NC\, United States
GEO:35.3737111;-83.2259803
END:VEVENT
END:VCALENDAR