BEGIN:VCALENDAR
VERSION:2.0
PRODID:-//CarolinaCrossmen - ECPv6.4.0.1//NONSGML v1.0//EN
CALSCALE:GREGORIAN
METHOD:PUBLISH
X-WR-CALNAME:CarolinaCrossmen
X-ORIGINAL-URL:http://www.carolinacrossmen.com
X-WR-CALDESC:Events for CarolinaCrossmen
REFRESH-INTERVAL;VALUE=DURATION:PT1H
X-Robots-Tag:noindex
X-PUBLISHED-TTL:PT1H
BEGIN:VTIMEZONE
TZID:America/New_York
BEGIN:DAYLIGHT
TZOFFSETFROM:-0500
TZOFFSETTO:-0400
TZNAME:EDT
DTSTART:20160313T070000
END:DAYLIGHT
BEGIN:STANDARD
TZOFFSETFROM:-0400
TZOFFSETTO:-0500
TZNAME:EST
DTSTART:20161106T060000
END:STANDARD
BEGIN:DAYLIGHT
TZOFFSETFROM:-0500
TZOFFSETTO:-0400
TZNAME:EDT
DTSTART:20170312T070000
END:DAYLIGHT
BEGIN:STANDARD
TZOFFSETFROM:-0400
TZOFFSETTO:-0500
TZNAME:EST
DTSTART:20171105T060000
END:STANDARD
BEGIN:DAYLIGHT
TZOFFSETFROM:-0500
TZOFFSETTO:-0400
TZNAME:EDT
DTSTART:20180311T070000
END:DAYLIGHT
BEGIN:STANDARD
TZOFFSETFROM:-0400
TZOFFSETTO:-0500
TZNAME:EST
DTSTART:20181104T060000
END:STANDARD
END:VTIMEZONE
BEGIN:VEVENT
DTSTART;TZID=America/New_York:20180930T100000
DTEND;TZID=America/New_York:20180930T120000
DTSTAMP:20260419T173604
CREATED:20180501T232645Z
LAST-MODIFIED:20180501T232645Z
UID:10000127-1538301600-1538308800@www.carolinacrossmen.com
SUMMARY:Camps Creek
DESCRIPTION:9/30 Camps Creek 10 moresboro nc
URL:http://www.carolinacrossmen.com/event/camps-creek-2/
LOCATION:Camps Creek Baptist\, Mooresboro\, NC\, United States
GEO:35.2987362;-81.6989863
END:VEVENT
BEGIN:VEVENT
DTSTART;TZID=America/New_York:20171001T180000
DTEND;TZID=America/New_York:20171001T193000
DTSTAMP:20260419T173604
CREATED:20170620T235644Z
LAST-MODIFIED:20170620T235644Z
UID:10000015-1506880800-1506886200@www.carolinacrossmen.com
SUMMARY:Camps Creek
DESCRIPTION:
URL:http://www.carolinacrossmen.com/event/camps-creek/
LOCATION:Camps Creek Baptist\, Mooresboro\, NC\, United States
GEO:35.2987362;-81.6989863
END:VEVENT
BEGIN:VEVENT
DTSTART;TZID=America/New_York:20161106T100000
DTEND;TZID=America/New_York:20161106T120000
DTSTAMP:20260419T173604
CREATED:20160727T155615Z
LAST-MODIFIED:20160727T155615Z
UID:10000057-1478426400-1478433600@www.carolinacrossmen.com
SUMMARY:Camps Creek Baptist
DESCRIPTION:
URL:http://www.carolinacrossmen.com/event/camps-creek-baptist/
LOCATION:Camps Creek Baptist\, Mooresboro\, NC\, United States
GEO:35.2987362;-81.6989863
END:VEVENT
END:VCALENDAR