BEGIN:VCALENDAR
VERSION:2.0
PRODID:-//CarolinaCrossmen - ECPv6.4.0.1//NONSGML v1.0//EN
CALSCALE:GREGORIAN
METHOD:PUBLISH
X-ORIGINAL-URL:http://www.carolinacrossmen.com
X-WR-CALDESC:Events for CarolinaCrossmen
REFRESH-INTERVAL;VALUE=DURATION:PT1H
X-Robots-Tag:noindex
X-PUBLISHED-TTL:PT1H
BEGIN:VTIMEZONE
TZID:America/New_York
BEGIN:DAYLIGHT
TZOFFSETFROM:-0500
TZOFFSETTO:-0400
TZNAME:EDT
DTSTART:20160313T070000
END:DAYLIGHT
BEGIN:STANDARD
TZOFFSETFROM:-0400
TZOFFSETTO:-0500
TZNAME:EST
DTSTART:20161106T060000
END:STANDARD
BEGIN:DAYLIGHT
TZOFFSETFROM:-0500
TZOFFSETTO:-0400
TZNAME:EDT
DTSTART:20170312T070000
END:DAYLIGHT
BEGIN:STANDARD
TZOFFSETFROM:-0400
TZOFFSETTO:-0500
TZNAME:EST
DTSTART:20171105T060000
END:STANDARD
BEGIN:DAYLIGHT
TZOFFSETFROM:-0500
TZOFFSETTO:-0400
TZNAME:EDT
DTSTART:20180311T070000
END:DAYLIGHT
BEGIN:STANDARD
TZOFFSETFROM:-0400
TZOFFSETTO:-0500
TZNAME:EST
DTSTART:20181104T060000
END:STANDARD
BEGIN:DAYLIGHT
TZOFFSETFROM:-0500
TZOFFSETTO:-0400
TZNAME:EDT
DTSTART:20190310T070000
END:DAYLIGHT
BEGIN:STANDARD
TZOFFSETFROM:-0400
TZOFFSETTO:-0500
TZNAME:EST
DTSTART:20191103T060000
END:STANDARD
END:VTIMEZONE
BEGIN:VEVENT
DTSTART;TZID=America/New_York:20190818T103000
DTEND;TZID=America/New_York:20190818T120000
DTSTAMP:20260419T173815
CREATED:20190514T233518Z
LAST-MODIFIED:20190514T233518Z
UID:10000170-1566124200-1566129600@www.carolinacrossmen.com
SUMMARY:East Black Mountain Free Will Baptist
DESCRIPTION:
URL:http://www.carolinacrossmen.com/event/east-black-mountain-free-will-baptist/
LOCATION:East Black Mountain FWB Church\, Black Mountain\, NC\, United States
GEO:35.6178951;-82.3212302
END:VEVENT
BEGIN:VEVENT
DTSTART;TZID=America/New_York:20161030T100000
DTEND;TZID=America/New_York:20161030T120000
DTSTAMP:20260419T173815
CREATED:20160901T224615Z
LAST-MODIFIED:20160901T224615Z
UID:10000052-1477821600-1477828800@www.carolinacrossmen.com
SUMMARY:East Black Mountain Freewill Baptist Church
DESCRIPTION:East Black Mountain Freewill Baptist Church
URL:http://www.carolinacrossmen.com/event/east-black-mountain-freewill-baptist-church/
LOCATION:East Black Mountain FWB Church\, Black Mountain\, NC\, United States
GEO:35.6178951;-82.3212302
END:VEVENT
END:VCALENDAR