BEGIN:VCALENDAR
VERSION:2.0
PRODID:-//CarolinaCrossmen - ECPv6.4.0.1//NONSGML v1.0//EN
CALSCALE:GREGORIAN
METHOD:PUBLISH
X-WR-CALNAME:CarolinaCrossmen
X-ORIGINAL-URL:http://www.carolinacrossmen.com
X-WR-CALDESC:Events for CarolinaCrossmen
REFRESH-INTERVAL;VALUE=DURATION:PT1H
X-Robots-Tag:noindex
X-PUBLISHED-TTL:PT1H
BEGIN:VTIMEZONE
TZID:America/New_York
BEGIN:DAYLIGHT
TZOFFSETFROM:-0500
TZOFFSETTO:-0400
TZNAME:EDT
DTSTART:20180311T070000
END:DAYLIGHT
BEGIN:STANDARD
TZOFFSETFROM:-0400
TZOFFSETTO:-0500
TZNAME:EST
DTSTART:20181104T060000
END:STANDARD
END:VTIMEZONE
BEGIN:VEVENT
DTSTART;TZID=America/New_York:20180715T100000
DTEND;TZID=America/New_York:20180715T120000
DTSTAMP:20260419T173242
CREATED:20180611T204440Z
LAST-MODIFIED:20180611T204440Z
UID:10000139-1531648800-1531656000@www.carolinacrossmen.com
SUMMARY:Jonathan Valley Baptist
DESCRIPTION:Jonathan Valley Baptist Church
URL:http://www.carolinacrossmen.com/event/jonathan-valley-baptist/
LOCATION:Jonathan Calley Baptist\, Jonathan Creek\, NC\, United States
GEO:35.5948555;-83.0468775
END:VEVENT
END:VCALENDAR