BEGIN:VCALENDAR
VERSION:2.0
PRODID:-//CarolinaCrossmen - ECPv6.4.0.1//NONSGML v1.0//EN
CALSCALE:GREGORIAN
METHOD:PUBLISH
X-ORIGINAL-URL:http://www.carolinacrossmen.com
X-WR-CALDESC:Events for CarolinaCrossmen
REFRESH-INTERVAL;VALUE=DURATION:PT1H
X-Robots-Tag:noindex
X-PUBLISHED-TTL:PT1H
BEGIN:VTIMEZONE
TZID:America/New_York
BEGIN:DAYLIGHT
TZOFFSETFROM:-0500
TZOFFSETTO:-0400
TZNAME:EDT
DTSTART:20170312T070000
END:DAYLIGHT
BEGIN:STANDARD
TZOFFSETFROM:-0400
TZOFFSETTO:-0500
TZNAME:EST
DTSTART:20171105T060000
END:STANDARD
END:VTIMEZONE
BEGIN:VEVENT
DTSTART;TZID=America/New_York:20170129T100000
DTEND;TZID=America/New_York:20170129T120000
DTSTAMP:20260419T201631
CREATED:20170119T033455Z
LAST-MODIFIED:20170119T033455Z
UID:10000030-1485684000-1485691200@www.carolinacrossmen.com
SUMMARY:Meadow Brook Baptist
DESCRIPTION:Meadow Brook Baptist \nLawrenceville\, GA 10:00
URL:http://www.carolinacrossmen.com/event/meadow-brook-baptist/
LOCATION:Meadow Brook Baptist\, Lawrenceville\, GA\, United States
GEO:33.9562149;-83.9879625
END:VEVENT
END:VCALENDAR