BEGIN:VCALENDAR
VERSION:2.0
PRODID:-//CarolinaCrossmen - ECPv6.4.0.1//NONSGML v1.0//EN
CALSCALE:GREGORIAN
METHOD:PUBLISH
X-ORIGINAL-URL:http://www.carolinacrossmen.com
X-WR-CALDESC:Events for CarolinaCrossmen
REFRESH-INTERVAL;VALUE=DURATION:PT1H
X-Robots-Tag:noindex
X-PUBLISHED-TTL:PT1H
BEGIN:VTIMEZONE
TZID:America/New_York
BEGIN:DAYLIGHT
TZOFFSETFROM:-0500
TZOFFSETTO:-0400
TZNAME:EDT
DTSTART:20160313T070000
END:DAYLIGHT
BEGIN:STANDARD
TZOFFSETFROM:-0400
TZOFFSETTO:-0500
TZNAME:EST
DTSTART:20161106T060000
END:STANDARD
BEGIN:DAYLIGHT
TZOFFSETFROM:-0500
TZOFFSETTO:-0400
TZNAME:EDT
DTSTART:20170312T070000
END:DAYLIGHT
BEGIN:STANDARD
TZOFFSETFROM:-0400
TZOFFSETTO:-0500
TZNAME:EST
DTSTART:20171105T060000
END:STANDARD
BEGIN:DAYLIGHT
TZOFFSETFROM:-0500
TZOFFSETTO:-0400
TZNAME:EDT
DTSTART:20180311T070000
END:DAYLIGHT
BEGIN:STANDARD
TZOFFSETFROM:-0400
TZOFFSETTO:-0500
TZNAME:EST
DTSTART:20181104T060000
END:STANDARD
END:VTIMEZONE
BEGIN:VEVENT
DTSTART;TZID=America/New_York:20180805T100000
DTEND;TZID=America/New_York:20180805T120000
DTSTAMP:20260419T172625
CREATED:20180716T233548Z
LAST-MODIFIED:20180716T233548Z
UID:10000141-1533463200-1533470400@www.carolinacrossmen.com
SUMMARY:Oconee Baptist
DESCRIPTION:Homecoming 10am
URL:http://www.carolinacrossmen.com/event/oconee-baptist/
LOCATION:Oconee Baptist\, Commerce\, GA\, United States
GEO:34.203997;-83.4571057
END:VEVENT
BEGIN:VEVENT
DTSTART;VALUE=DATE:20160924
DTEND;VALUE=DATE:20160925
DTSTAMP:20260419T172625
CREATED:20160426T193726Z
LAST-MODIFIED:20160727T154711Z
UID:10000047-1474675200-1474761599@www.carolinacrossmen.com
SUMMARY:Tractor Show
DESCRIPTION:Oconee Baptist\, Commerce GA
URL:http://www.carolinacrossmen.com/event/tractor-show/
LOCATION:Commerce\, GA\, United States
END:VEVENT
END:VCALENDAR