BEGIN:VCALENDAR
VERSION:2.0
PRODID:-//CarolinaCrossmen - ECPv6.4.0.1//NONSGML v1.0//EN
CALSCALE:GREGORIAN
METHOD:PUBLISH
X-ORIGINAL-URL:http://www.carolinacrossmen.com
X-WR-CALDESC:Events for CarolinaCrossmen
REFRESH-INTERVAL;VALUE=DURATION:PT1H
X-Robots-Tag:noindex
X-PUBLISHED-TTL:PT1H
BEGIN:VTIMEZONE
TZID:America/New_York
BEGIN:DAYLIGHT
TZOFFSETFROM:-0500
TZOFFSETTO:-0400
TZNAME:EDT
DTSTART:20160313T070000
END:DAYLIGHT
BEGIN:STANDARD
TZOFFSETFROM:-0400
TZOFFSETTO:-0500
TZNAME:EST
DTSTART:20161106T060000
END:STANDARD
END:VTIMEZONE
BEGIN:VEVENT
DTSTART;TZID=America/New_York:20160110T180000
DTEND;TZID=America/New_York:20160110T190000
DTSTAMP:20260419T203530
CREATED:20160104T204152Z
LAST-MODIFIED:20160104T204152Z
UID:10000081-1452448800-1452452400@www.carolinacrossmen.com
SUMMARY:River of Life Worship Center
DESCRIPTION:
URL:http://www.carolinacrossmen.com/event/river-of-life-worship-center/
LOCATION:River of Life Worship Center\, Social Circle\, GA\, United States
GEO:33.656228;-83.718231
END:VEVENT
END:VCALENDAR