BEGIN:VCALENDAR
VERSION:2.0
PRODID:-//CarolinaCrossmen - ECPv6.4.0.1//NONSGML v1.0//EN
CALSCALE:GREGORIAN
METHOD:PUBLISH
X-ORIGINAL-URL:http://www.carolinacrossmen.com
X-WR-CALDESC:Events for CarolinaCrossmen
REFRESH-INTERVAL;VALUE=DURATION:PT1H
X-Robots-Tag:noindex
X-PUBLISHED-TTL:PT1H
BEGIN:VTIMEZONE
TZID:America/New_York
BEGIN:DAYLIGHT
TZOFFSETFROM:-0500
TZOFFSETTO:-0400
TZNAME:EDT
DTSTART:20160313T070000
END:DAYLIGHT
BEGIN:STANDARD
TZOFFSETFROM:-0400
TZOFFSETTO:-0500
TZNAME:EST
DTSTART:20161106T060000
END:STANDARD
BEGIN:DAYLIGHT
TZOFFSETFROM:-0500
TZOFFSETTO:-0400
TZNAME:EDT
DTSTART:20170312T070000
END:DAYLIGHT
BEGIN:STANDARD
TZOFFSETFROM:-0400
TZOFFSETTO:-0500
TZNAME:EST
DTSTART:20171105T060000
END:STANDARD
BEGIN:DAYLIGHT
TZOFFSETFROM:-0500
TZOFFSETTO:-0400
TZNAME:EDT
DTSTART:20180311T070000
END:DAYLIGHT
BEGIN:STANDARD
TZOFFSETFROM:-0400
TZOFFSETTO:-0500
TZNAME:EST
DTSTART:20181104T060000
END:STANDARD
BEGIN:DAYLIGHT
TZOFFSETFROM:-0500
TZOFFSETTO:-0400
TZNAME:EDT
DTSTART:20190310T070000
END:DAYLIGHT
BEGIN:STANDARD
TZOFFSETFROM:-0400
TZOFFSETTO:-0500
TZNAME:EST
DTSTART:20191103T060000
END:STANDARD
BEGIN:DAYLIGHT
TZOFFSETFROM:-0500
TZOFFSETTO:-0400
TZNAME:EDT
DTSTART:20200308T070000
END:DAYLIGHT
BEGIN:STANDARD
TZOFFSETFROM:-0400
TZOFFSETTO:-0500
TZNAME:EST
DTSTART:20201101T060000
END:STANDARD
BEGIN:DAYLIGHT
TZOFFSETFROM:-0500
TZOFFSETTO:-0400
TZNAME:EDT
DTSTART:20210314T070000
END:DAYLIGHT
BEGIN:STANDARD
TZOFFSETFROM:-0400
TZOFFSETTO:-0500
TZNAME:EST
DTSTART:20211107T060000
END:STANDARD
BEGIN:DAYLIGHT
TZOFFSETFROM:-0500
TZOFFSETTO:-0400
TZNAME:EDT
DTSTART:20220313T070000
END:DAYLIGHT
BEGIN:STANDARD
TZOFFSETFROM:-0400
TZOFFSETTO:-0500
TZNAME:EST
DTSTART:20221106T060000
END:STANDARD
END:VTIMEZONE
BEGIN:VEVENT
DTSTART;TZID=America/New_York:20220807T100000
DTEND;TZID=America/New_York:20220807T120000
DTSTAMP:20260419T161409
CREATED:20220614T230909Z
LAST-MODIFIED:20220614T230909Z
UID:10000122-1659866400-1659873600@www.carolinacrossmen.com
SUMMARY:Rock Springs
DESCRIPTION:
URL:http://www.carolinacrossmen.com/event/rock-springs-2/
LOCATION:Rock Springs Baptist\, Cherokee\, NC\, United States
GEO:35.4770574;-83.3205859
END:VEVENT
BEGIN:VEVENT
DTSTART;TZID=America/New_York:20180819T100000
DTEND;TZID=America/New_York:20180819T120000
DTSTAMP:20260419T161409
CREATED:20180501T232251Z
LAST-MODIFIED:20180501T232251Z
UID:10000039-1534672800-1534680000@www.carolinacrossmen.com
SUMMARY:Rock Springs
DESCRIPTION:8/19 rock springs cherokee 10
URL:http://www.carolinacrossmen.com/event/rock-springs/
LOCATION:Rock Springs Baptist\, Cherokee\, NC\, United States
GEO:35.4770574;-83.3205859
END:VEVENT
BEGIN:VEVENT
DTSTART;TZID=America/New_York:20170820T100000
DTEND;TZID=America/New_York:20170820T120000
DTSTAMP:20260419T161409
CREATED:20170620T235325Z
LAST-MODIFIED:20170620T235325Z
UID:10000011-1503223200-1503230400@www.carolinacrossmen.com
SUMMARY:Rock Springs Baptist
DESCRIPTION:
URL:http://www.carolinacrossmen.com/event/rock-springs-baptist-2/
LOCATION:Rock Springs Baptist\, Cherokee\, NC\, United States
GEO:35.4770574;-83.3205859
END:VEVENT
BEGIN:VEVENT
DTSTART;TZID=America/New_York:20160821T100000
DTEND;TZID=America/New_York:20160821T120000
DTSTAMP:20260419T161409
CREATED:20160426T193417Z
LAST-MODIFIED:20160426T193417Z
UID:10000051-1471773600-1471780800@www.carolinacrossmen.com
SUMMARY:Rock Springs Baptist
DESCRIPTION:
URL:http://www.carolinacrossmen.com/event/rock-springs-baptist/
LOCATION:Rock Springs Baptist\, Cherokee\, NC\, United States
GEO:35.4770574;-83.3205859
END:VEVENT
END:VCALENDAR