BEGIN:VCALENDAR
VERSION:2.0
PRODID:-//CarolinaCrossmen - ECPv6.4.0.1//NONSGML v1.0//EN
CALSCALE:GREGORIAN
METHOD:PUBLISH
X-ORIGINAL-URL:http://www.carolinacrossmen.com
X-WR-CALDESC:Events for CarolinaCrossmen
REFRESH-INTERVAL;VALUE=DURATION:PT1H
X-Robots-Tag:noindex
X-PUBLISHED-TTL:PT1H
BEGIN:VTIMEZONE
TZID:America/New_York
BEGIN:DAYLIGHT
TZOFFSETFROM:-0500
TZOFFSETTO:-0400
TZNAME:EDT
DTSTART:20210314T070000
END:DAYLIGHT
BEGIN:STANDARD
TZOFFSETFROM:-0400
TZOFFSETTO:-0500
TZNAME:EST
DTSTART:20211107T060000
END:STANDARD
END:VTIMEZONE
BEGIN:VEVENT
DTSTART;TZID=America/New_York:20210822T190000
DTEND;TZID=America/New_York:20210822T200000
DTSTAMP:20260419T161247
CREATED:20210809T124013Z
LAST-MODIFIED:20210816T212820Z
UID:10000196-1629658800-1629662400@www.carolinacrossmen.com
SUMMARY:Tate's Creek
DESCRIPTION:
URL:http://www.carolinacrossmen.com/event/tates-creek-3/
LOCATION:Tate’s Creek\, Toccoa\, GA\, United States
END:VEVENT
END:VCALENDAR