BEGIN:VCALENDAR
VERSION:2.0
PRODID:-//CarolinaCrossmen - ECPv6.4.0.1//NONSGML v1.0//EN
CALSCALE:GREGORIAN
METHOD:PUBLISH
X-ORIGINAL-URL:http://www.carolinacrossmen.com
X-WR-CALDESC:Events for CarolinaCrossmen
REFRESH-INTERVAL;VALUE=DURATION:PT1H
X-Robots-Tag:noindex
X-PUBLISHED-TTL:PT1H
BEGIN:VTIMEZONE
TZID:America/New_York
BEGIN:DAYLIGHT
TZOFFSETFROM:-0500
TZOFFSETTO:-0400
TZNAME:EDT
DTSTART:20160313T070000
END:DAYLIGHT
BEGIN:STANDARD
TZOFFSETFROM:-0400
TZOFFSETTO:-0500
TZNAME:EST
DTSTART:20161106T060000
END:STANDARD
BEGIN:DAYLIGHT
TZOFFSETFROM:-0500
TZOFFSETTO:-0400
TZNAME:EDT
DTSTART:20170312T070000
END:DAYLIGHT
BEGIN:STANDARD
TZOFFSETFROM:-0400
TZOFFSETTO:-0500
TZNAME:EST
DTSTART:20171105T060000
END:STANDARD
BEGIN:DAYLIGHT
TZOFFSETFROM:-0500
TZOFFSETTO:-0400
TZNAME:EDT
DTSTART:20180311T070000
END:DAYLIGHT
BEGIN:STANDARD
TZOFFSETFROM:-0400
TZOFFSETTO:-0500
TZNAME:EST
DTSTART:20181104T060000
END:STANDARD
BEGIN:DAYLIGHT
TZOFFSETFROM:-0500
TZOFFSETTO:-0400
TZNAME:EDT
DTSTART:20190310T070000
END:DAYLIGHT
BEGIN:STANDARD
TZOFFSETFROM:-0400
TZOFFSETTO:-0500
TZNAME:EST
DTSTART:20191103T060000
END:STANDARD
BEGIN:DAYLIGHT
TZOFFSETFROM:-0500
TZOFFSETTO:-0400
TZNAME:EDT
DTSTART:20200308T070000
END:DAYLIGHT
BEGIN:STANDARD
TZOFFSETFROM:-0400
TZOFFSETTO:-0500
TZNAME:EST
DTSTART:20201101T060000
END:STANDARD
BEGIN:DAYLIGHT
TZOFFSETFROM:-0500
TZOFFSETTO:-0400
TZNAME:EDT
DTSTART:20210314T070000
END:DAYLIGHT
BEGIN:STANDARD
TZOFFSETFROM:-0400
TZOFFSETTO:-0500
TZNAME:EST
DTSTART:20211107T060000
END:STANDARD
BEGIN:DAYLIGHT
TZOFFSETFROM:-0500
TZOFFSETTO:-0400
TZNAME:EDT
DTSTART:20220313T070000
END:DAYLIGHT
BEGIN:STANDARD
TZOFFSETFROM:-0400
TZOFFSETTO:-0500
TZNAME:EST
DTSTART:20221106T060000
END:STANDARD
END:VTIMEZONE
BEGIN:VEVENT
DTSTART;TZID=America/New_York:20220717T100000
DTEND;TZID=America/New_York:20220717T120000
DTSTAMP:20260419T144743
CREATED:20220426T234159Z
LAST-MODIFIED:20220426T234159Z
UID:10000203-1658052000-1658059200@www.carolinacrossmen.com
SUMMARY:Truth Fellowship
DESCRIPTION:
URL:http://www.carolinacrossmen.com/event/truth-fellowship-6/
LOCATION:Truth Fellowship\, Carnesville\, GA\, United States
GEO:34.3698266;-83.235155
END:VEVENT
BEGIN:VEVENT
DTSTART;TZID=America/New_York:20210718T100000
DTEND;TZID=America/New_York:20210718T120000
DTSTAMP:20260419T144743
CREATED:20210330T013045Z
LAST-MODIFIED:20210330T013045Z
UID:10000180-1626602400-1626609600@www.carolinacrossmen.com
SUMMARY:Truth Fellowship
DESCRIPTION:
URL:http://www.carolinacrossmen.com/event/truth-fellowship-5/
LOCATION:Truth Fellowship\, Carnesville\, GA\, United States
GEO:34.3698266;-83.235155
END:VEVENT
BEGIN:VEVENT
DTSTART;TZID=America/New_York:20191208T100000
DTEND;TZID=America/New_York:20191208T120000
DTSTAMP:20260419T144743
CREATED:20190319T235545Z
LAST-MODIFIED:20190319T235545Z
UID:10000164-1575799200-1575806400@www.carolinacrossmen.com
SUMMARY:Truth Fellowship
DESCRIPTION:
URL:http://www.carolinacrossmen.com/event/truth-fellowship-4/
LOCATION:Truth Fellowship\, Carnesville\, GA\, United States
GEO:34.3698266;-83.235155
END:VEVENT
BEGIN:VEVENT
DTSTART;TZID=America/New_York:20181202T100000
DTEND;TZID=America/New_York:20181202T120000
DTSTAMP:20260419T144743
CREATED:20180501T233334Z
LAST-MODIFIED:20180501T233334Z
UID:10000135-1543744800-1543752000@www.carolinacrossmen.com
SUMMARY:Truth Fellowship
DESCRIPTION:12/2 Truth Fellowship carnesville\, GA 10
URL:http://www.carolinacrossmen.com/event/truth-fellowship-3/
LOCATION:Truth Fellowship\, Carnesville\, GA\, United States
GEO:34.3698266;-83.235155
END:VEVENT
BEGIN:VEVENT
DTSTART;TZID=America/New_York:20171015T100000
DTEND;TZID=America/New_York:20171015T120000
DTSTAMP:20260419T144743
CREATED:20170620T235854Z
LAST-MODIFIED:20170620T235854Z
UID:10000018-1508061600-1508068800@www.carolinacrossmen.com
SUMMARY:Truth Fellowship
DESCRIPTION:
URL:http://www.carolinacrossmen.com/event/truth-fellowship-2/
LOCATION:Truth Fellowship\, Carnesville\, GA\, United States
GEO:34.3698266;-83.235155
END:VEVENT
BEGIN:VEVENT
DTSTART;TZID=America/New_York:20161016T100000
DTEND;TZID=America/New_York:20161016T120000
DTSTAMP:20260419T144743
CREATED:20160426T194026Z
LAST-MODIFIED:20160426T194026Z
UID:10000043-1476612000-1476619200@www.carolinacrossmen.com
SUMMARY:Truth Fellowship
DESCRIPTION:
URL:http://www.carolinacrossmen.com/event/truth-fellowship/
LOCATION:Truth Fellowship\, Carnesville\, GA\, United States
GEO:34.3698266;-83.235155
END:VEVENT
END:VCALENDAR