BEGIN:VCALENDAR
VERSION:2.0
PRODID:-//CarolinaCrossmen - ECPv6.4.0.1//NONSGML v1.0//EN
CALSCALE:GREGORIAN
METHOD:PUBLISH
X-WR-CALNAME:CarolinaCrossmen
X-ORIGINAL-URL:http://www.carolinacrossmen.com
X-WR-CALDESC:Events for CarolinaCrossmen
REFRESH-INTERVAL;VALUE=DURATION:PT1H
X-Robots-Tag:noindex
X-PUBLISHED-TTL:PT1H
BEGIN:VTIMEZONE
TZID:America/New_York
BEGIN:DAYLIGHT
TZOFFSETFROM:-0500
TZOFFSETTO:-0400
TZNAME:EDT
DTSTART:20180311T070000
END:DAYLIGHT
BEGIN:STANDARD
TZOFFSETFROM:-0400
TZOFFSETTO:-0500
TZNAME:EST
DTSTART:20181104T060000
END:STANDARD
BEGIN:DAYLIGHT
TZOFFSETFROM:-0500
TZOFFSETTO:-0400
TZNAME:EDT
DTSTART:20190310T070000
END:DAYLIGHT
BEGIN:STANDARD
TZOFFSETFROM:-0400
TZOFFSETTO:-0500
TZNAME:EST
DTSTART:20191103T060000
END:STANDARD
END:VTIMEZONE
BEGIN:VEVENT
DTSTART;TZID=America/New_York:20190428T180000
DTEND;TZID=America/New_York:20190428T180000
DTSTAMP:20260419T173242
CREATED:20190423T220637Z
LAST-MODIFIED:20190423T220637Z
UID:10000165-1556474400-1556474400@www.carolinacrossmen.com
SUMMARY:Victory Baptist
DESCRIPTION:
URL:http://www.carolinacrossmen.com/event/victory-baptist-3/
LOCATION:Victory Baptist\, Lawrenceville\, GA\, United States
GEO:33.9562149;-83.9879625
END:VEVENT
BEGIN:VEVENT
DTSTART;TZID=America/New_York:20180325T180000
DTEND;TZID=America/New_York:20180325T190000
DTSTAMP:20260419T173242
CREATED:20180315T225335Z
LAST-MODIFIED:20180315T225335Z
UID:10000118-1522000800-1522004400@www.carolinacrossmen.com
SUMMARY:Victory Baptist
DESCRIPTION:
URL:http://www.carolinacrossmen.com/event/victory-baptist-2/
LOCATION:Victory Baptist\, Lawrenceville\, GA\, United States
GEO:33.9562149;-83.9879625
END:VEVENT
END:VCALENDAR