BEGIN:VCALENDAR
VERSION:2.0
PRODID:-//CarolinaCrossmen - ECPv6.4.0.1//NONSGML v1.0//EN
CALSCALE:GREGORIAN
METHOD:PUBLISH
X-ORIGINAL-URL:http://www.carolinacrossmen.com
X-WR-CALDESC:Events for CarolinaCrossmen
REFRESH-INTERVAL;VALUE=DURATION:PT1H
X-Robots-Tag:noindex
X-PUBLISHED-TTL:PT1H
BEGIN:VTIMEZONE
TZID:America/New_York
BEGIN:DAYLIGHT
TZOFFSETFROM:-0500
TZOFFSETTO:-0400
TZNAME:EDT
DTSTART:20170312T070000
END:DAYLIGHT
BEGIN:STANDARD
TZOFFSETFROM:-0400
TZOFFSETTO:-0500
TZNAME:EST
DTSTART:20171105T060000
END:STANDARD
BEGIN:DAYLIGHT
TZOFFSETFROM:-0500
TZOFFSETTO:-0400
TZNAME:EDT
DTSTART:20180311T070000
END:DAYLIGHT
BEGIN:STANDARD
TZOFFSETFROM:-0400
TZOFFSETTO:-0500
TZNAME:EST
DTSTART:20181104T060000
END:STANDARD
BEGIN:DAYLIGHT
TZOFFSETFROM:-0500
TZOFFSETTO:-0400
TZNAME:EDT
DTSTART:20190310T070000
END:DAYLIGHT
BEGIN:STANDARD
TZOFFSETFROM:-0400
TZOFFSETTO:-0500
TZNAME:EST
DTSTART:20191103T060000
END:STANDARD
END:VTIMEZONE
BEGIN:VEVENT
DTSTART;TZID=America/New_York:20191006T100000
DTEND;TZID=America/New_York:20191006T120000
DTSTAMP:20260419T161511
CREATED:20190319T235136Z
LAST-MODIFIED:20190319T235136Z
UID:10000078-1570356000-1570363200@www.carolinacrossmen.com
SUMMARY:Warrenville Church of God
DESCRIPTION:
URL:http://www.carolinacrossmen.com/event/warrenville-church-of-god-3/
LOCATION:Warrenville Church of God\, Warrenville\, SC\, United States
GEO:33.5509706;-81.8039998
END:VEVENT
BEGIN:VEVENT
DTSTART;TZID=America/New_York:20180624T100000
DTEND;TZID=America/New_York:20180624T120000
DTSTAMP:20260419T161511
CREATED:20180501T231625Z
LAST-MODIFIED:20180501T231625Z
UID:10000027-1529834400-1529841600@www.carolinacrossmen.com
SUMMARY:Warrenville Church of God
DESCRIPTION:Warrenville COG sc 10
URL:http://www.carolinacrossmen.com/event/warrenville-church-of-god-2/
LOCATION:Warrenville Church of God\, Warrenville\, SC\, United States
GEO:33.5509706;-81.8039998
END:VEVENT
BEGIN:VEVENT
DTSTART;TZID=America/New_York:20170625T100000
DTEND;TZID=America/New_York:20170625T120000
DTSTAMP:20260419T161511
CREATED:20170620T232104Z
LAST-MODIFIED:20170620T232104Z
UID:10000097-1498384800-1498392000@www.carolinacrossmen.com
SUMMARY:Warrenville Church of God
DESCRIPTION:
URL:http://www.carolinacrossmen.com/event/warrenville-church-of-god/
LOCATION:Warrenville Church of God\, Warrenville\, SC\, United States
GEO:33.5509706;-81.8039998
END:VEVENT
END:VCALENDAR